BEGIN:VCALENDAR
VERSION:2.0
PRODID:-//De Kuip - ECPv6.15.20//NONSGML v1.0//EN
CALSCALE:GREGORIAN
METHOD:PUBLISH
X-ORIGINAL-URL:https://www.de-kuip.nl
X-WR-CALDESC:Evenementen voor De Kuip
REFRESH-INTERVAL;VALUE=DURATION:PT1H
X-Robots-Tag:noindex
X-PUBLISHED-TTL:PT1H
BEGIN:VTIMEZONE
TZID:Europe/Amsterdam
BEGIN:DAYLIGHT
TZOFFSETFROM:+0100
TZOFFSETTO:+0200
TZNAME:CEST
DTSTART:20240331T010000
END:DAYLIGHT
BEGIN:STANDARD
TZOFFSETFROM:+0200
TZOFFSETTO:+0100
TZNAME:CET
DTSTART:20241027T010000
END:STANDARD
BEGIN:DAYLIGHT
TZOFFSETFROM:+0100
TZOFFSETTO:+0200
TZNAME:CEST
DTSTART:20250330T010000
END:DAYLIGHT
BEGIN:STANDARD
TZOFFSETFROM:+0200
TZOFFSETTO:+0100
TZNAME:CET
DTSTART:20251026T010000
END:STANDARD
BEGIN:DAYLIGHT
TZOFFSETFROM:+0100
TZOFFSETTO:+0200
TZNAME:CEST
DTSTART:20260329T010000
END:DAYLIGHT
BEGIN:STANDARD
TZOFFSETFROM:+0200
TZOFFSETTO:+0100
TZNAME:CET
DTSTART:20261025T010000
END:STANDARD
END:VTIMEZONE
BEGIN:VEVENT
DTSTART;TZID=Europe/Amsterdam:20251122T200000
DTEND;TZID=Europe/Amsterdam:20251122T200000
DTSTAMP:20260421T202900
CREATED:20251005T144355Z
LAST-MODIFIED:20251005T144636Z
UID:10000538-1763841600-1763841600@www.de-kuip.nl
SUMMARY:Voorstelling Theatergroep Sequioa: Gekkenhuis
DESCRIPTION:🎭 Gekkenhuis – To Be or Not To Be\nIn een verlaten ziekenhuis verschuilt voormalig psychiater Tecla zich voor haar pensioen. Ze voelt zich afgedankt en uitgeblust… tot drie oude bekenden haar opzoeken. \nEr verschijnen Giel (met zijn imaginaire vrienden uit Alice in Wonderland )\, Hamlet (die graag citeert uit Shakespeares meesterwerk ) en Tankman (de voormalige held die wacht op een nieuwe heldendaad ). \nVroeger hielp Tecla haar patiënten terug te keren naar de realiteit. Maar nu? Ze is met pensioen — en laat de realiteit graag even voor wat die is. Samen dwalen ze af in een wereld van verbeelding\, waanzin en verlangen… tot het uit de hand loopt. Dan stelt Tecla zich de ultieme vraag:wil ze zijn\, of niet zijn? \n\nOver de auteur\nMarieke Nijmanting is psycholoog\, beeldend kunstenaar en schrijfster. Ze publiceerde talloze boeken — van vakliteratuur voor psychologen tot kinderboeken\, romans en toneelstukken. Gekkenhuis – To Be or Not To Be is een tragikomedie vol scherpte\, humor en menselijkheid. \nKaartverkoop begonnen\nKaarten kosten € 10\,00 p.p. inclusief gratis koffie/thee \nKaartverkoop: www.tgsequoia.nl
URL:https://www.de-kuip.nl/agenda/voorstelling-theatergroep-sequioa-gekkenhuis/
LOCATION:Gemeenschapshuis De Kuip\, Bloemendalsweg 1b\, Colmschate\, Overijssel\, 7429 AL\, Nederland
CATEGORIES:Theater/Toneel
ATTACH;FMTTYPE=image/jpeg:https://www.de-kuip.nl/wp-content/uploads/2025/10/Voorstelling-Sequioa-Gekkenhuis.jpg
END:VEVENT
END:VCALENDAR