BEGIN:VCALENDAR
VERSION:2.0
PRODID:-//De Kuip - ECPv6.15.20//NONSGML v1.0//EN
CALSCALE:GREGORIAN
METHOD:PUBLISH
X-WR-CALNAME:De Kuip
X-ORIGINAL-URL:https://www.de-kuip.nl
X-WR-CALDESC:Evenementen voor De Kuip
REFRESH-INTERVAL;VALUE=DURATION:PT1H
X-Robots-Tag:noindex
X-PUBLISHED-TTL:PT1H
BEGIN:VTIMEZONE
TZID:Europe/Amsterdam
BEGIN:DAYLIGHT
TZOFFSETFROM:+0100
TZOFFSETTO:+0200
TZNAME:CEST
DTSTART:20240331T010000
END:DAYLIGHT
BEGIN:STANDARD
TZOFFSETFROM:+0200
TZOFFSETTO:+0100
TZNAME:CET
DTSTART:20241027T010000
END:STANDARD
BEGIN:DAYLIGHT
TZOFFSETFROM:+0100
TZOFFSETTO:+0200
TZNAME:CEST
DTSTART:20250330T010000
END:DAYLIGHT
BEGIN:STANDARD
TZOFFSETFROM:+0200
TZOFFSETTO:+0100
TZNAME:CET
DTSTART:20251026T010000
END:STANDARD
BEGIN:DAYLIGHT
TZOFFSETFROM:+0100
TZOFFSETTO:+0200
TZNAME:CEST
DTSTART:20260329T010000
END:DAYLIGHT
BEGIN:STANDARD
TZOFFSETFROM:+0200
TZOFFSETTO:+0100
TZNAME:CET
DTSTART:20261025T010000
END:STANDARD
END:VTIMEZONE
BEGIN:VEVENT
DTSTART;TZID=Europe/Amsterdam:20251127T133000
DTEND;TZID=Europe/Amsterdam:20251127T150000
DTSTAMP:20260421T190901
CREATED:20251024T150646Z
LAST-MODIFIED:20251119T070826Z
UID:10000542-1764250200-1764255600@www.de-kuip.nl
SUMMARY:Themathee: Deesy Kavak (geannuleerd)
DESCRIPTION:Door omstandigheden kan deze themathee niet doorgaan. In het nieuwe jaar zullen we een nieuwe datum prikken. \nErvaringsverhalen over autisme \nDeesy Kavak deelt openhartig haar persoonlijke ervaringen met de diagnose autisme. Ze vertelt niet alleen haar verhaal\, maar neemt je ook mee in haar kennis en inzichten. \nKom gezellig luisteren\, geniet van een kopje koffie of thee en doe mee aan een interactief spel! \nDe entree is gratis\, maar het nuttigen van een consumptie is verplicht. \nWat kun je verwachten: \n\n\n📖 Persoonlijke ervaringsverhalen – eerlijke en herkenbare verhalen uit het leven van Deesy. \n\n\n💡 Inzichten en kennis – praktische tips en nieuwe perspectieven op autisme. \n\n\n🤝 Interactieve momenten – doe mee aan een leuk en leerzaam spel. \n\n\n☕ Gezellige sfeer – met koffie\, thee en ruimte om met elkaar in gesprek te gaan.
URL:https://www.de-kuip.nl/agenda/themathee-deesy-kavak/
LOCATION:Gemeenschapshuis De Kuip\, Bloemendalsweg 1b\, Colmschate\, Overijssel\, 7429 AL\, Nederland
CATEGORIES:Activiteitenteam De Kuip,Inloopmiddag,Lezing,Ontmoeten,Themathee
ATTACH;FMTTYPE=image/png:https://www.de-kuip.nl/wp-content/uploads/2025/10/Banner-Themathee-november.png
ORGANIZER;CN="Activiteitenteam De Kuip":MAILTO:activiteiten@de-kuip.nl
END:VEVENT
BEGIN:VEVENT
DTSTART;TZID=Europe/Amsterdam:20251127T190000
DTEND;TZID=Europe/Amsterdam:20251127T210000
DTSTAMP:20260421T190901
CREATED:20250604T122034Z
LAST-MODIFIED:20251123T091709Z
UID:10000482-1764270000-1764277200@www.de-kuip.nl
SUMMARY:Soos De Kuiperij: Sinterklaas
DESCRIPTION:Vanavond komt Sinterklaas weer met zijn Pieten op bezoek. \n𝗦𝗼𝗼𝘀 𝗗𝗲 𝗞𝘂𝗶𝗽𝗲𝗿𝗶𝗷 \n\nOm de week op donderdag van 19.00 – 21.00 uur vindt de soos ‘De Kuiperij’ plaats. De soos is een ontspanningsavond voor mensen met een verstandelijke beperking\, midden niveau.\n\n\n \n\n\nDe deelnemers van deze avond wonen bij de stichting Zozijn\, stichting De Parabool en de JP van den Bent stichting.\n\n\nMeer informatie..\n 
URL:https://www.de-kuip.nl/agenda/soos-de-kuiperij-27112025/
LOCATION:Gemeenschapshuis De Kuip\, Bloemendalsweg 1b\, Colmschate\, Overijssel\, 7429 AL\, Nederland
CATEGORIES:Soos De Kuiperij
ATTACH;FMTTYPE=image/png:https://www.de-kuip.nl/wp-content/uploads/2025/06/De-Kuiperij-Sinterklaas-27-november-2025.png
ORGANIZER;CN="Vrijwilligers soos De Kuiperij":MAILTO:info@de-kuip.nl
END:VEVENT
END:VCALENDAR