BEGIN:VCALENDAR
VERSION:2.0
PRODID:-//De Kuip - ECPv6.15.20//NONSGML v1.0//EN
CALSCALE:GREGORIAN
METHOD:PUBLISH
X-ORIGINAL-URL:https://www.de-kuip.nl
X-WR-CALDESC:Evenementen voor De Kuip
REFRESH-INTERVAL;VALUE=DURATION:PT1H
X-Robots-Tag:noindex
X-PUBLISHED-TTL:PT1H
BEGIN:VTIMEZONE
TZID:Europe/Amsterdam
BEGIN:DAYLIGHT
TZOFFSETFROM:+0100
TZOFFSETTO:+0200
TZNAME:CEST
DTSTART:20250330T010000
END:DAYLIGHT
BEGIN:STANDARD
TZOFFSETFROM:+0200
TZOFFSETTO:+0100
TZNAME:CET
DTSTART:20251026T010000
END:STANDARD
BEGIN:DAYLIGHT
TZOFFSETFROM:+0100
TZOFFSETTO:+0200
TZNAME:CEST
DTSTART:20260329T010000
END:DAYLIGHT
BEGIN:STANDARD
TZOFFSETFROM:+0200
TZOFFSETTO:+0100
TZNAME:CET
DTSTART:20261025T010000
END:STANDARD
BEGIN:DAYLIGHT
TZOFFSETFROM:+0100
TZOFFSETTO:+0200
TZNAME:CEST
DTSTART:20270328T010000
END:DAYLIGHT
BEGIN:STANDARD
TZOFFSETFROM:+0200
TZOFFSETTO:+0100
TZNAME:CET
DTSTART:20271031T010000
END:STANDARD
END:VTIMEZONE
BEGIN:VEVENT
DTSTART;TZID=Europe/Amsterdam:20260118T143000
DTEND;TZID=Europe/Amsterdam:20260118T173000
DTSTAMP:20260421T155141
CREATED:20251203T080632Z
LAST-MODIFIED:20260107T091546Z
UID:10000550-1768746600-1768757400@www.de-kuip.nl
SUMMARY:Optreden van The DS Band
DESCRIPTION:🎸 Live Muziek – Een middag vol hits!\nEen enthousiaste formatie van vijf doorgewinterde muzikanten en een zangeres vormt samen een hechte band die al meer dan 20 jaar het podium deelt. \nZe brengen een mix van Engelstalige hits en Rock & Roll uit de jaren 60/70/80. Verwacht energie\, herkenbaarheid en veel plezier! 🤩🎤 \n\n📅 Datum & Tijd\n\n\nZondag 18 januari \n\n\n14:30 – 17:30 uur \n\n\n💶 Entree\n\n\n€ 5\,00 \n\n\nBetaling aan de deur (geen voorverkoop)
URL:https://www.de-kuip.nl/agenda/optreden-van-de-ds-band/
LOCATION:Foyer De Kuip\, Bloemendalsweg 1b\, Colmschate\, 7429AL
CATEGORIES:Activiteitenteam De Kuip,Agenda,Dansen,Evenementen,Live in De Kuip,Live muziek,Ontmoeten
ATTACH;FMTTYPE=image/png:https://www.de-kuip.nl/wp-content/uploads/2025/12/Banner-optreden-DS-Band-januari-2026.png
ORGANIZER;CN="Activiteitenteam De Kuip":MAILTO:activiteiten@de-kuip.nl
END:VEVENT
END:VCALENDAR