BEGIN:VCALENDAR
VERSION:2.0
PRODID:-//De Kuip - ECPv6.15.20//NONSGML v1.0//EN
CALSCALE:GREGORIAN
METHOD:PUBLISH
X-WR-CALNAME:De Kuip
X-ORIGINAL-URL:https://www.de-kuip.nl
X-WR-CALDESC:Evenementen voor De Kuip
REFRESH-INTERVAL;VALUE=DURATION:PT1H
X-Robots-Tag:noindex
X-PUBLISHED-TTL:PT1H
BEGIN:VTIMEZONE
TZID:Europe/Amsterdam
BEGIN:DAYLIGHT
TZOFFSETFROM:+0100
TZOFFSETTO:+0200
TZNAME:CEST
DTSTART:20250330T010000
END:DAYLIGHT
BEGIN:STANDARD
TZOFFSETFROM:+0200
TZOFFSETTO:+0100
TZNAME:CET
DTSTART:20251026T010000
END:STANDARD
BEGIN:DAYLIGHT
TZOFFSETFROM:+0100
TZOFFSETTO:+0200
TZNAME:CEST
DTSTART:20260329T010000
END:DAYLIGHT
BEGIN:STANDARD
TZOFFSETFROM:+0200
TZOFFSETTO:+0100
TZNAME:CET
DTSTART:20261025T010000
END:STANDARD
BEGIN:DAYLIGHT
TZOFFSETFROM:+0100
TZOFFSETTO:+0200
TZNAME:CEST
DTSTART:20270328T010000
END:DAYLIGHT
BEGIN:STANDARD
TZOFFSETFROM:+0200
TZOFFSETTO:+0100
TZNAME:CET
DTSTART:20271031T010000
END:STANDARD
END:VTIMEZONE
BEGIN:VEVENT
DTSTART;TZID=Europe/Amsterdam:20260423T080000
DTEND;TZID=Europe/Amsterdam:20260423T143000
DTSTAMP:20260423T012536
CREATED:20251222T165554Z
LAST-MODIFIED:20251222T165637Z
UID:10000919-1776931200-1776954600@www.de-kuip.nl
SUMMARY:Kindcentrum Kolmenscate: gymlessen
DESCRIPTION:Wij zijn er voor kinderen van 2 tot 13 jaar die bij ons in een fijne sfeer alle ruimte krijgen om te groeien. \nPeuters ontwikkelen zich bij ons spelenderwijs. Stap voor stap maken zij richting hun vierde jaar alvast kennis met de kleuters en onderbouwleerkrachten\, waardoor de overgang naar groep 1 heel natuurlijk is.\nOp school helpen wij kinderen hun groeikracht te ontdekken. Wie ben je\, wat is je talent en hoe kun je dat laten groeien? Mag je leren op een manier die bij je past\, dan wordt leren leuk!\nNaast taal\, rekenen en andere belangrijke vakken\, besteden wij ook veel aandacht aan sociale vaardigheden\, creatieve vakken\, natuur\, sport en techniek. Zo geven wij kinderen de brede basis mee die zij nodig hebben voor een volgende stap op weg naar hun toekomst.\nOok voor en na schooltijd voelen kinderen zich thuis in de vertrouwde omgeving van ons Kindcentrum. Zij kunnen de dag relaxed beginnen en afsluiten en kunnen ook na schooltijd hun talenten laten groeien. \nDeze gymlessen worden door een vakdocent verzorgd in De Kuip. \nWe raden altijd aan om de websites van de huurders te raadplegen voor de meest actuele informatie.\nHet is voor ons onmogelijk om dit dagelijks bij te houden een link naar de website is onderaan deze pagina te vinden.
URL:https://www.de-kuip.nl/agenda/kindcentrum-kolmenscate-gymlessen-2/2026-04-23/
LOCATION:Sporthal De Kuip\, Bloemdalsweg 1b\, Colmschate\, 7429AL
CATEGORIES:Agenda huurders
ATTACH;FMTTYPE=image/png:https://www.de-kuip.nl/wp-content/uploads/2025/12/Huurder-Kindcentrum-Kolmenscate-2026.png
END:VEVENT
BEGIN:VEVENT
DTSTART;TZID=Europe/Amsterdam:20260423T153000
DTEND;TZID=Europe/Amsterdam:20260423T194500
DTSTAMP:20260423T012536
CREATED:20251222T165950Z
LAST-MODIFIED:20251222T170112Z
UID:10000945-1776958200-1776973500@www.de-kuip.nl
SUMMARY:LINK! Jeugdtheater - zang - dans
DESCRIPTION:Theater maken is zingen\, dansen\, toneelspelen…. Een verzamelnaam voor allerlei kunstvormen die levendige voorstellingen voor publiek maken. Het is zo veelzijdig dat we het jammer vinden om ons tot één medium te beperken. Zeker de jeugd spreekt variatie erg aan. \nBij LINK! wordt dan ook een vorm van afwisselend en eigenzinnig theater aangeboden aan kinderen van diverse leeftijden. Hierbij speelt niet alleen drama een rol\, maar wordt er ook gezongen en gedanst. Elk jaar willen we met een gezamenlijk optreden afsluiten met een dynamische combinatie van eigentijdse zang\, dans en theater. \nDe disciplines worden afzonderlijk aangeboden\, 2 per bijeenkomst\, maar zullen door muziekselectie\, thema en verhaallijn één geheel vormen in de speciaal voor de jeugd van LINK! geschreven voorstellingen. Natuurlijk wordt daarin geprobeerd een eigentijdse keuze te maken die bij de leeftijden aansluit. \nWe werken niet met audities\, we willen iedereen de kans geven om met theater aan de slag te gaan. \nDoordat de voorstellingen door onszelf worden geschreven\, kunnen we iedereen een rol geven die aansluit bij ieders talenten en wensen of juist uitdagingen. \nTROEPEN\nOp dit moment hebben we 5 groepen in diverse leeftijdscategorieën. Kinderen en jongeren in de leeftijd van 4 tot en met 21 jaar kunnen bij ons terecht. De groepen worden zo optimaal mogelijk samengesteld\, gebaseerd op het de leeftijd van de aangemelde kinderen en kan per jaar dus iets verschillen. De lessen worden altijd aangeboden op het niveau van de huidige samenstelling. We streven naar goed op elkaar afgestemde groepen\, waarin de kinderen op hun eigen niveau kunnen meedraaien. \nAlle lessen vinden plaats op donderdag in ‘De Kuip’ in de Oxe Zaal en de Roessinkzaal. \nTroep 1: 15.30 – 16.00 uur\nTroep 2: 16.30 – 18.00 uur\nTroep 3: 16.30 – 18.00 uur\nTroep 4: 18.00 – 19.30 uur\nTroep 5: 18.00 – 19.30 uur \n  \nWe raden altijd aan om de websites van de huurders te raadplegen voor de meest actuele informatie.\nHet is voor ons onmogelijk om dit dagelijks bij te houden een link naar de website is onderaan deze pagina te vinden.
URL:https://www.de-kuip.nl/agenda/link-jeugdtheater-zang-dans/2026-04-23/
LOCATION:Oxe Zaal De Kuip\, Bloemendalsweg 1b\, Colmschate\, 7429 AL
CATEGORIES:Agenda huurders
ATTACH;FMTTYPE=image/png:https://www.de-kuip.nl/wp-content/uploads/2025/12/Link-Theater-2026.png
END:VEVENT
BEGIN:VEVENT
DTSTART;TZID=Europe/Amsterdam:20260423T183000
DTEND;TZID=Europe/Amsterdam:20260423T200000
DTSTAMP:20260423T012536
CREATED:20251224T123620Z
LAST-MODIFIED:20251224T123620Z
UID:10000972-1776969000-1776974400@www.de-kuip.nl
SUMMARY:Avior Volleybal
DESCRIPTION:Volleybalvereniging Avior is een ondernemende volleybalvereniging met een sportieve verenigingsstructuur voor jong en oud. Ze creëren samen een veilige sportomgeving\, waar iedereen op eigen niveau een sportieve prestatie kan neerzetten en waarin iedereen zich betrokken voelt en zijn eigen rol vervult. \nDiverse teams gebruiken onze sporthal meer informatie op de website van Avior \nWe raden altijd aan om de websites van de huurders te raadplegen voor de meest actuele informatie.\nHet is voor ons onmogelijk om dit dagelijks bij te houden een link naar de website is onderaan deze pagina te vinden.
URL:https://www.de-kuip.nl/agenda/avior-volleybal-4/2026-04-23/
LOCATION:Sporthal De Kuip\, Bloemdalsweg 1b\, Colmschate\, 7429AL
CATEGORIES:Agenda huurders
ATTACH;FMTTYPE=image/png:https://www.de-kuip.nl/wp-content/uploads/2025/12/Huurder-Avior-2026.png
END:VEVENT
BEGIN:VEVENT
DTSTART;TZID=Europe/Amsterdam:20260423T200000
DTEND;TZID=Europe/Amsterdam:20260423T210000
DTSTAMP:20260423T012536
CREATED:20260311T153236Z
LAST-MODIFIED:20260311T153727Z
UID:10001208-1776974400-1776978000@www.de-kuip.nl
SUMMARY:Presentatie Schipbeekbad door Caroline Dijkerman
DESCRIPTION:Presentatie: Het Schipbeekbad\nOp donderdag 23 april organiseren wij in onze foyer een bijzondere presentatie over de geschiedenis van het Schipbeekbad. \nSchipbeekbad\nIn 1938 bouwden de gebroeders Evers\, een aannemersbedrijf uit Deventer\, hun eigen zwembad: het Schipbeekbad. Het groeide al snel uit tot een geliefde plek voor inwoners uit onder andere Epse\, Gorssel\, Deventer\, Snippeling en Colmschate. Het was een echt familiebad. \nIn de jaren vijftig\, toen weinig mensen op vakantie gingen\, was het bad een populaire ontmoetingsplek voor jongeren. Er werd gevoetbald op de ligweides en genoten van de zon tegen de dijkjes. \nEind jaren zestig wilde de gemeente Deventer het industrieterrein uitbreiden en kwam de A1 steeds dichterbij. Na de zomer van 1971 viel daarom het doek voor het Schipbeekbad. De Schipbeek werd omgelegd\, waardoor de watertoevoer verdween. In de plannen zou het bad plaatsmaken voor wegen en industrie. \nDoor de oliecrisis in de jaren zeventig ontwikkelde het industriegebied zich echter langzamer dan verwacht. Uiteindelijk besloot de gemeente Deventer in de jaren negentig om het voormalige bad te behouden als natuurpark. Zo bleef\, midden tussen de fabrieksgebouwen\, een unieke plek bestaan. \nDe lezing\nCaroline Dijkerman (59) groeide op in Epse. Zelf zwom zij nooit in het Schipbeekbad\, maar haar ouders leerden elkaar daar kennen. Van 2019 tot 2025 deed zij uitgebreid onderzoek naar de geschiedenis van het bad. De resultaten zijn vastgelegd in haar boek “Schipbeekbad: een plek die nooit verdween”. \nTijdens haar lezing vertelt zij over de geschiedenis van het bad en deelt zij bijzondere ontdekkingen\, ondersteund door foto’s en kaartmateriaal. \n📅 Donderdag 23 april🚪 Deur open: 19.30 uur🎤 Aanvang: 20.00 uur🎟️ Toegang: gratis \nIedereen is van harte welkom!
URL:https://www.de-kuip.nl/agenda/presentatie-schipbeekbad-door-caroline-dijkerman/
LOCATION:Foyer De Kuip\, Bloemendalsweg 1b\, Colmschate\, 7429AL
CATEGORIES:Activiteitenteam De Kuip,Agenda,Lezing,Ontmoeten,Presentatie
ATTACH;FMTTYPE=image/png:https://www.de-kuip.nl/wp-content/uploads/2026/03/Banner-presentatie-Schipbeekbad.png
ORGANIZER;CN="Activiteitenteam De Kuip":MAILTO:activiteiten@de-kuip.nl
END:VEVENT
BEGIN:VEVENT
DTSTART;TZID=Europe/Amsterdam:20260423T200000
DTEND;TZID=Europe/Amsterdam:20260423T213000
DTSTAMP:20260423T012536
CREATED:20251224T123915Z
LAST-MODIFIED:20251224T124057Z
UID:10000998-1776974400-1776979800@www.de-kuip.nl
SUMMARY:BC De Kuip Badminton
DESCRIPTION:Elke donderdagavond traint Badminton Club De Kuip in de sporthal \n  \nWe raden altijd aan om de websites van de huurders te raadplegen voor de meest actuele informatie.\nHet is voor ons onmogelijk om dit dagelijks bij te houden een link naar de website is onderaan deze pagina te vinden.
URL:https://www.de-kuip.nl/agenda/bc-de-kuip-badminton/2026-04-23/
LOCATION:Sporthal De Kuip\, Bloemdalsweg 1b\, Colmschate\, 7429AL
CATEGORIES:Agenda huurders
ATTACH;FMTTYPE=image/png:https://www.de-kuip.nl/wp-content/uploads/2025/12/Banner-BC-De-Kuip-Badminton-2026.png
END:VEVENT
END:VCALENDAR