BEGIN:VCALENDAR
VERSION:2.0
PRODID:-//De Kuip - ECPv6.15.20//NONSGML v1.0//EN
CALSCALE:GREGORIAN
METHOD:PUBLISH
X-ORIGINAL-URL:https://www.de-kuip.nl
X-WR-CALDESC:Evenementen voor De Kuip
REFRESH-INTERVAL;VALUE=DURATION:PT1H
X-Robots-Tag:noindex
X-PUBLISHED-TTL:PT1H
BEGIN:VTIMEZONE
TZID:Europe/Amsterdam
BEGIN:DAYLIGHT
TZOFFSETFROM:+0100
TZOFFSETTO:+0200
TZNAME:CEST
DTSTART:20230326T010000
END:DAYLIGHT
BEGIN:STANDARD
TZOFFSETFROM:+0200
TZOFFSETTO:+0100
TZNAME:CET
DTSTART:20231029T010000
END:STANDARD
BEGIN:DAYLIGHT
TZOFFSETFROM:+0100
TZOFFSETTO:+0200
TZNAME:CEST
DTSTART:20240331T010000
END:DAYLIGHT
BEGIN:STANDARD
TZOFFSETFROM:+0200
TZOFFSETTO:+0100
TZNAME:CET
DTSTART:20241027T010000
END:STANDARD
BEGIN:DAYLIGHT
TZOFFSETFROM:+0100
TZOFFSETTO:+0200
TZNAME:CEST
DTSTART:20250330T010000
END:DAYLIGHT
BEGIN:STANDARD
TZOFFSETFROM:+0200
TZOFFSETTO:+0100
TZNAME:CET
DTSTART:20251026T010000
END:STANDARD
END:VTIMEZONE
BEGIN:VEVENT
DTSTART;TZID=Europe/Amsterdam:20240606T073000
DTEND;TZID=Europe/Amsterdam:20240606T210000
DTSTAMP:20260420T102252
CREATED:20240426T130404Z
LAST-MODIFIED:20240426T130404Z
UID:10000351-1717659000-1717707600@www.de-kuip.nl
SUMMARY:Stemmen Europese verkiezingen 2024
DESCRIPTION:Op 57 plekken in de gemeente Deventer kunnen stemgerechtigden op 6 juni hun stem uitbrengen. In Nederland vindt op die datum de verkiezing plaats voor het Europees Parlement. \nU kunt deze dag uw stem uitbrengen bij ons in De Kuip. Neem gerust een kopje koffie na afloop. Onze mensen staan voor uw klaar.
URL:https://www.de-kuip.nl/agenda/stemmen-europese-verkiezingen-2024/
LOCATION:Gemeenschapshuis De Kuip\, Bloemendalsweg 1b\, Colmschate\, Overijssel\, 7429 AL\, Nederland
CATEGORIES:Algemeen
ATTACH;FMTTYPE=image/jpeg:https://www.de-kuip.nl/wp-content/uploads/2023/08/De-Kuip-stemburea-verkiezingen.jpg
END:VEVENT
END:VCALENDAR