BEGIN:VCALENDAR
VERSION:2.0
PRODID:-//De Kuip - ECPv6.15.20//NONSGML v1.0//EN
CALSCALE:GREGORIAN
METHOD:PUBLISH
X-WR-CALNAME:De Kuip
X-ORIGINAL-URL:https://www.de-kuip.nl
X-WR-CALDESC:Evenementen voor De Kuip
REFRESH-INTERVAL;VALUE=DURATION:PT1H
X-Robots-Tag:noindex
X-PUBLISHED-TTL:PT1H
BEGIN:VTIMEZONE
TZID:Europe/Amsterdam
BEGIN:DAYLIGHT
TZOFFSETFROM:+0100
TZOFFSETTO:+0200
TZNAME:CEST
DTSTART:20230326T010000
END:DAYLIGHT
BEGIN:STANDARD
TZOFFSETFROM:+0200
TZOFFSETTO:+0100
TZNAME:CET
DTSTART:20231029T010000
END:STANDARD
BEGIN:DAYLIGHT
TZOFFSETFROM:+0100
TZOFFSETTO:+0200
TZNAME:CEST
DTSTART:20240331T010000
END:DAYLIGHT
BEGIN:STANDARD
TZOFFSETFROM:+0200
TZOFFSETTO:+0100
TZNAME:CET
DTSTART:20241027T010000
END:STANDARD
BEGIN:DAYLIGHT
TZOFFSETFROM:+0100
TZOFFSETTO:+0200
TZNAME:CEST
DTSTART:20250330T010000
END:DAYLIGHT
BEGIN:STANDARD
TZOFFSETFROM:+0200
TZOFFSETTO:+0100
TZNAME:CET
DTSTART:20251026T010000
END:STANDARD
END:VTIMEZONE
BEGIN:VEVENT
DTSTART;TZID=Europe/Amsterdam:20240822T150000
DTEND;TZID=Europe/Amsterdam:20240822T170000
DTSTAMP:20260420T090259
CREATED:20240713T070054Z
LAST-MODIFIED:20240715T160641Z
UID:10000375-1724338800-1724346000@www.de-kuip.nl
SUMMARY:Carinova valpreventie: Vallen verleden tijd (informatiebijeenkomst)
DESCRIPTION:Ook als u ouder wordt\, wilt u natuurlijk zo zelfstandig mogelijk blijven. Door een val kan dit veranderen. Bijvoorbeeld omdat u minder durft. Of omdat u nog lang pijn of last heeft na de val. Goede informatie en training is daarom heel belangrijk. Carinova Thuizz regelt dit voor u in samenwerking met therapeuten uit uw buurt! \n\n\nGratis infobijeenkomst of intake\n\n\n\n\nMerkt u dat u stijver wordt of slechter ter been? Of minder balans heeft dan voorheen? Dan is de kans op vallen groter. Net als bij slechter zien of pijn bij het bewegen. \nAan een val kunt u lichamelijk letsel overhouden\, zoals een botbreuk. U durft misschien minder. In een cursus valpreventie leert u veilig en zeker bewegen en krijgt u weer vertrouwen in uw lichaam. Samen met een therapeut werkt u aan het verbeteren van uw spierkracht en evenwicht. \nWat gaan we doen?\nWij werken samen met verschillende fysio- en ergotherapiepraktijken uit de regio. Meerdere keren per jaar organiseren zij een gratis informatiebijeenkomst of houden zij een telefonische intake met u. U kunt dus in uw eigen buurt terecht. Wel zo fijn.. \nDeze eerste kennismaking is voor iedereen die meer wil weten over vallen en de valpreventiecursus. Denkt u daarna dat de cursus iets voor u is? Dan kunt u zich eenvoudig ter plekke aanmelden. De kosten van het vervolg zijn afhankelijk van de locatie en uw zorgverzekeraar. Weten wat voor uw situatie van toepassing is? Ook deze vragen stelt u op de gratis infobijeenkomst of telefonische intake. \nMeer informatie.. \nAlle cursus data..
URL:https://www.de-kuip.nl/agenda/carinova-valpreventie-vallen-verleden-tijd-informatiebijeenkomst/
LOCATION:Gemeenschapshuis De Kuip\, Bloemendalsweg 1b\, Colmschate\, Overijssel\, 7429 AL\, Nederland
CATEGORIES:Algemeen,Sporten
ATTACH;FMTTYPE=image/jpeg:https://www.de-kuip.nl/wp-content/uploads/2024/05/Carinova-Valpreventie.jpg
ORGANIZER;CN="Carinova":MAILTO:info@carinova.nl
END:VEVENT
END:VCALENDAR