BEGIN:VCALENDAR
VERSION:2.0
PRODID:-//De Kuip - ECPv6.15.20//NONSGML v1.0//EN
CALSCALE:GREGORIAN
METHOD:PUBLISH
X-ORIGINAL-URL:https://www.de-kuip.nl
X-WR-CALDESC:Evenementen voor De Kuip
REFRESH-INTERVAL;VALUE=DURATION:PT1H
X-Robots-Tag:noindex
X-PUBLISHED-TTL:PT1H
BEGIN:VTIMEZONE
TZID:Europe/Amsterdam
BEGIN:DAYLIGHT
TZOFFSETFROM:+0100
TZOFFSETTO:+0200
TZNAME:CEST
DTSTART:20230326T010000
END:DAYLIGHT
BEGIN:STANDARD
TZOFFSETFROM:+0200
TZOFFSETTO:+0100
TZNAME:CET
DTSTART:20231029T010000
END:STANDARD
BEGIN:DAYLIGHT
TZOFFSETFROM:+0100
TZOFFSETTO:+0200
TZNAME:CEST
DTSTART:20240331T010000
END:DAYLIGHT
BEGIN:STANDARD
TZOFFSETFROM:+0200
TZOFFSETTO:+0100
TZNAME:CET
DTSTART:20241027T010000
END:STANDARD
BEGIN:DAYLIGHT
TZOFFSETFROM:+0100
TZOFFSETTO:+0200
TZNAME:CEST
DTSTART:20250330T010000
END:DAYLIGHT
BEGIN:STANDARD
TZOFFSETFROM:+0200
TZOFFSETTO:+0100
TZNAME:CET
DTSTART:20251026T010000
END:STANDARD
END:VTIMEZONE
BEGIN:VEVENT
DTSTART;VALUE=DATE:20240902
DTEND;VALUE=DATE:20240925
DTSTAMP:20260420T073914
CREATED:20240904T114302Z
LAST-MODIFIED:20240905T172900Z
UID:10000398-1725235200-1727222399@www.de-kuip.nl
SUMMARY:Stemmen op De Kuip voor Rabo ClubSupport 2024
DESCRIPTION:Ook dit jaar weer kan je stemmen op De Kuip tijdens Rabo ClubSupport. De leden van de Rabobank kunnen dan stemmen op hun favoriete vereniging/organisatie. Elke stem is ongeveer 5 euro waard. Hoe meer stemmen\, hoe meer geld je krijgt! \n  \nSamenleving\nDe Kuip is het buurthuis voor Colmschate in de Gemeente Deventer met activiteiten voor een breed publiek\, voor alle inwoners van Colmschate en omgeving. \n  \n\nOns doel\nHet organiseren van activiteiten in een informele sfeer in de buurt om hierdoor de sociale contacten en de leefbaarheid te vergroten. \n\n  \nStem nu direct in de Rabo App of online op rabobank.nl/clubsupport.\n  \nRabo ClubSupport\nIedereen verdient een club. Het is als een 2e huis. Een plek waar je elkaar ontmoet\, elkaar sterker maakt en helemaal jezelf kunt zijn. Kortom: verenigingen zijn onmisbaar. Daarom helpen wij hen graag met kennis\, netwerk en geld om hun ambities te realiseren. Zo geven we als coöperatieve bank ieder jaar een deel van onze winst terug aan de verenigingen. Daarnaast zetten we onze kennis en ons netwerk in om clubs toekomstbestendiger te maken. Dit alles doen we samen met onze partners NOC*NSF\, LKCA\, Kunstbende en verschillende sportbonden.
URL:https://www.de-kuip.nl/agenda/stemmen-op-de-kuip-voor-rabo-clubsupport-2024/
LOCATION:Overijssel
CATEGORIES:Activiteitenteam De Kuip,Algemeen
ATTACH;FMTTYPE=image/png:https://www.de-kuip.nl/wp-content/uploads/2024/09/Poster-Rabo-ClubSupport-2024-De-Kuip-Liggend.png
ORGANIZER;CN="Activiteitenteam De Kuip":MAILTO:activiteiten@de-kuip.nl
END:VEVENT
END:VCALENDAR