BEGIN:VCALENDAR
VERSION:2.0
PRODID:-//De Kuip - ECPv6.15.20//NONSGML v1.0//EN
CALSCALE:GREGORIAN
METHOD:PUBLISH
X-ORIGINAL-URL:https://www.de-kuip.nl
X-WR-CALDESC:Evenementen voor De Kuip
REFRESH-INTERVAL;VALUE=DURATION:PT1H
X-Robots-Tag:noindex
X-PUBLISHED-TTL:PT1H
BEGIN:VTIMEZONE
TZID:Europe/Amsterdam
BEGIN:DAYLIGHT
TZOFFSETFROM:+0100
TZOFFSETTO:+0200
TZNAME:CEST
DTSTART:20240331T010000
END:DAYLIGHT
BEGIN:STANDARD
TZOFFSETFROM:+0200
TZOFFSETTO:+0100
TZNAME:CET
DTSTART:20241027T010000
END:STANDARD
BEGIN:DAYLIGHT
TZOFFSETFROM:+0100
TZOFFSETTO:+0200
TZNAME:CEST
DTSTART:20250330T010000
END:DAYLIGHT
BEGIN:STANDARD
TZOFFSETFROM:+0200
TZOFFSETTO:+0100
TZNAME:CET
DTSTART:20251026T010000
END:STANDARD
BEGIN:DAYLIGHT
TZOFFSETFROM:+0100
TZOFFSETTO:+0200
TZNAME:CEST
DTSTART:20260329T010000
END:DAYLIGHT
BEGIN:STANDARD
TZOFFSETFROM:+0200
TZOFFSETTO:+0100
TZNAME:CET
DTSTART:20261025T010000
END:STANDARD
END:VTIMEZONE
BEGIN:VEVENT
DTSTART;TZID=Europe/Amsterdam:20250830T133000
DTEND;TZID=Europe/Amsterdam:20250830T213000
DTSTAMP:20260422T102129
CREATED:20250521T072450Z
LAST-MODIFIED:20250525T073940Z
UID:10000471-1756560600-1756589400@www.de-kuip.nl
SUMMARY:Opendansdag Dansstudio MimiMove
DESCRIPTION:Komend schooljaar start een nieuwe huurder in De Kuip. Dansstudio MimiMove de dansschool in Deventer Colmschate die op 06/09/2025 nieuwe danslessen gaat starten voor recreatieve en gevorderde dansers. Op 30 augustus starten ze meteen opendansdag voor iedereen die graag een proefles wil proberen. \nStuur eigenaar Naomi Vos een DM en geef je op! . \n\n\n\nLet op\, voor het trainingsprogramma / wedstrijdteam is een auditie vereist. Heb je een passie voor dansen en vind je het leuk om met een team wedstrijden te dansen door heel Nederland\, geef je dan op voor de auditie op 30/08/2025.) \nNeem ook een kijkje op hun gloednieuwe site: www.mimimove.nl \nZie we jullie bij de opendansdag?
URL:https://www.de-kuip.nl/agenda/opendansdag-dansstudio-mimimove/
LOCATION:Gemeenschapshuis De Kuip\, Bloemendalsweg 1b\, Colmschate\, Overijssel\, 7429 AL\, Nederland
CATEGORIES:Dansen
ATTACH;FMTTYPE=image/jpeg:https://www.de-kuip.nl/wp-content/uploads/2025/05/Logo-Dansstudio-Mimi-Move.jpg
END:VEVENT
END:VCALENDAR