BEGIN:VCALENDAR
VERSION:2.0
PRODID:-//De Kuip - ECPv6.15.20//NONSGML v1.0//EN
CALSCALE:GREGORIAN
METHOD:PUBLISH
X-ORIGINAL-URL:https://www.de-kuip.nl
X-WR-CALDESC:Evenementen voor De Kuip
REFRESH-INTERVAL;VALUE=DURATION:PT1H
X-Robots-Tag:noindex
X-PUBLISHED-TTL:PT1H
BEGIN:VTIMEZONE
TZID:Europe/Amsterdam
BEGIN:DAYLIGHT
TZOFFSETFROM:+0100
TZOFFSETTO:+0200
TZNAME:CEST
DTSTART:20240331T010000
END:DAYLIGHT
BEGIN:STANDARD
TZOFFSETFROM:+0200
TZOFFSETTO:+0100
TZNAME:CET
DTSTART:20241027T010000
END:STANDARD
BEGIN:DAYLIGHT
TZOFFSETFROM:+0100
TZOFFSETTO:+0200
TZNAME:CEST
DTSTART:20250330T010000
END:DAYLIGHT
BEGIN:STANDARD
TZOFFSETFROM:+0200
TZOFFSETTO:+0100
TZNAME:CET
DTSTART:20251026T010000
END:STANDARD
BEGIN:DAYLIGHT
TZOFFSETFROM:+0100
TZOFFSETTO:+0200
TZNAME:CEST
DTSTART:20260329T010000
END:DAYLIGHT
BEGIN:STANDARD
TZOFFSETFROM:+0200
TZOFFSETTO:+0100
TZNAME:CET
DTSTART:20261025T010000
END:STANDARD
END:VTIMEZONE
BEGIN:VEVENT
DTSTART;TZID=Europe/Amsterdam:20251005T140000
DTEND;TZID=Europe/Amsterdam:20251005T180000
DTSTAMP:20260422T025026
CREATED:20250604T074606Z
LAST-MODIFIED:20250604T074606Z
UID:10000473-1759672800-1759687200@www.de-kuip.nl
SUMMARY:Leo Disco Jam Middag oktober 2025
DESCRIPTION:Geniet van een gezellige muziekmiddag in De Kuip!\nHerbeleef de muziek uit de jaren ’60 met getalenteerde muzikanten. Verwacht een mix van optredens: soms een energieke band\, soms spontane jamsessies – en soms beide! Kom langs en laat je meevoeren door de tijdloze klanken van een onvergetelijk muziekdecennium. \nGeorganiseerd door Ada Souilljee. Volg ook hun Facebookpagina Leo Disco Jam om op de hoogte te blijven. \nEntree is € 3\,00 p.p.
URL:https://www.de-kuip.nl/agenda/leo-disco-jam-middag-oktober-2025/
LOCATION:Gemeenschapshuis De Kuip\, Bloemendalsweg 1b\, Colmschate\, Overijssel\, 7429 AL\, Nederland
CATEGORIES:Dansen,Evenementen,Jam Middag,Live muziek,Ontmoeten
ATTACH;FMTTYPE=image/png:https://www.de-kuip.nl/wp-content/uploads/2024/12/Banner-Leo-Disco-Jam-2025.png
END:VEVENT
BEGIN:VEVENT
DTSTART;TZID=Europe/Amsterdam:20251026T140000
DTEND;TZID=Europe/Amsterdam:20251026T180000
DTSTAMP:20260422T025026
CREATED:20250909T163547Z
LAST-MODIFIED:20250912T174731Z
UID:10000525-1761487200-1761501600@www.de-kuip.nl
SUMMARY:Afslag Oele
DESCRIPTION:Afslag Oele – terug naar de sixties & seventies 🎶\nVijf enthousiaste muzikanten\, één passie: de tijdloze popmuziek uit de jaren ’60 en ’70.Dat is Afslag Oele\, al sinds 1995 een vertrouwd gezicht op het podium. \nVan rustige ballads tot swingende rock-’n-roll: het repertoire is breed\, herkenbaar en altijd goed in het gehoor liggend. Verwacht klassiekers van o.a. Elvis Presley\, Cliff Richard\, The Beatles\, The Rolling Stones\, The Searchers\, Del Shannon\, CCR en nog veel meer. \nEn… als het publiek er zin in heeft\, duikt de band ook in het repertoire van Andy Tielman. Bij een recent optreden stond zelfs de hele zaal te line-dancen op een nummer van de Stones – dát is Afslag Oele: muziek die je raakt én in beweging brengt. \nKom luisteren & beleven!\n📅 Zondag 26 oktober💶 Entree: € 10\,00 (aan de deur alleen contant\, geen pin)📍 Foyer Gemeenschapshuis De Kuip
URL:https://www.de-kuip.nl/agenda/afslag-oele-oktober-2025/
LOCATION:Gemeenschapshuis De Kuip\, Bloemendalsweg 1b\, Colmschate\, Overijssel\, 7429 AL\, Nederland
CATEGORIES:Activiteitenteam De Kuip,Dansen,Evenementen,Live in De Kuip,Live muziek,Ontmoeten
ATTACH;FMTTYPE=image/png:https://www.de-kuip.nl/wp-content/uploads/2025/09/Banner-Afslag-Oele-oktober-2025.png
ORGANIZER;CN="Activiteitenteam De Kuip":MAILTO:activiteiten@de-kuip.nl
END:VEVENT
END:VCALENDAR