BEGIN:VCALENDAR
VERSION:2.0
PRODID:-//De Kuip - ECPv6.15.20//NONSGML v1.0//EN
CALSCALE:GREGORIAN
METHOD:PUBLISH
X-ORIGINAL-URL:https://www.de-kuip.nl
X-WR-CALDESC:Evenementen voor De Kuip
REFRESH-INTERVAL;VALUE=DURATION:PT1H
X-Robots-Tag:noindex
X-PUBLISHED-TTL:PT1H
BEGIN:VTIMEZONE
TZID:Europe/Amsterdam
BEGIN:DAYLIGHT
TZOFFSETFROM:+0100
TZOFFSETTO:+0200
TZNAME:CEST
DTSTART:20230326T010000
END:DAYLIGHT
BEGIN:STANDARD
TZOFFSETFROM:+0200
TZOFFSETTO:+0100
TZNAME:CET
DTSTART:20231029T010000
END:STANDARD
BEGIN:DAYLIGHT
TZOFFSETFROM:+0100
TZOFFSETTO:+0200
TZNAME:CEST
DTSTART:20240331T010000
END:DAYLIGHT
BEGIN:STANDARD
TZOFFSETFROM:+0200
TZOFFSETTO:+0100
TZNAME:CET
DTSTART:20241027T010000
END:STANDARD
BEGIN:DAYLIGHT
TZOFFSETFROM:+0100
TZOFFSETTO:+0200
TZNAME:CEST
DTSTART:20250330T010000
END:DAYLIGHT
BEGIN:STANDARD
TZOFFSETFROM:+0200
TZOFFSETTO:+0100
TZNAME:CET
DTSTART:20251026T010000
END:STANDARD
END:VTIMEZONE
BEGIN:VEVENT
DTSTART;TZID=Europe/Amsterdam:20240717T190000
DTEND;TZID=Europe/Amsterdam:20240717T210000
DTSTAMP:20260423T133804
CREATED:20240710T013556Z
LAST-MODIFIED:20240710T013556Z
UID:10000370-1721242800-1721250000@www.de-kuip.nl
SUMMARY:Zumba Summer Party 2024
DESCRIPTION:Op woensdagavond 17 juli organiseert Gaby Danst weer een leuke zumba partij. \nIedereen is welkom en danservaring is niet vereist. \nDeelname is gratis\, maar een vrijwillige bijdrage is welkom. \nMeer informatie Gaby Danst.
URL:https://www.de-kuip.nl/agenda/zumba-summer-party-2024/
LOCATION:Evenemententerrein De Kuip\, Bloemendalsweg 1\, Colmschate\, Overijssel\, 7429AL\, Nederland
CATEGORIES:Dansen
ATTACH;FMTTYPE=image/jpeg:https://www.de-kuip.nl/wp-content/uploads/2024/07/Zumba-Summer-Party-2024-17-juli.jpg
END:VEVENT
END:VCALENDAR