BEGIN:VCALENDAR
VERSION:2.0
PRODID:-//De Kuip - ECPv6.15.20//NONSGML v1.0//EN
CALSCALE:GREGORIAN
METHOD:PUBLISH
X-WR-CALNAME:De Kuip
X-ORIGINAL-URL:https://www.de-kuip.nl
X-WR-CALDESC:Evenementen voor De Kuip
REFRESH-INTERVAL;VALUE=DURATION:PT1H
X-Robots-Tag:noindex
X-PUBLISHED-TTL:PT1H
BEGIN:VTIMEZONE
TZID:Europe/Amsterdam
BEGIN:DAYLIGHT
TZOFFSETFROM:+0100
TZOFFSETTO:+0200
TZNAME:CEST
DTSTART:20230326T010000
END:DAYLIGHT
BEGIN:STANDARD
TZOFFSETFROM:+0200
TZOFFSETTO:+0100
TZNAME:CET
DTSTART:20231029T010000
END:STANDARD
BEGIN:DAYLIGHT
TZOFFSETFROM:+0100
TZOFFSETTO:+0200
TZNAME:CEST
DTSTART:20240331T010000
END:DAYLIGHT
BEGIN:STANDARD
TZOFFSETFROM:+0200
TZOFFSETTO:+0100
TZNAME:CET
DTSTART:20241027T010000
END:STANDARD
BEGIN:DAYLIGHT
TZOFFSETFROM:+0100
TZOFFSETTO:+0200
TZNAME:CEST
DTSTART:20250330T010000
END:DAYLIGHT
BEGIN:STANDARD
TZOFFSETFROM:+0200
TZOFFSETTO:+0100
TZNAME:CET
DTSTART:20251026T010000
END:STANDARD
END:VTIMEZONE
BEGIN:VEVENT
DTSTART;TZID=Europe/Amsterdam:20241215T140000
DTEND;TZID=Europe/Amsterdam:20241215T180000
DTSTAMP:20260423T041652
CREATED:20241104T105148Z
LAST-MODIFIED:20241104T105843Z
UID:10000405-1734271200-1734285600@www.de-kuip.nl
SUMMARY:Concert Afslag Oele
DESCRIPTION:Sixties/Seventies Band Afslag Oele \nAfslag Oele\, opgericht in 1995\, brengt de popmuziek van eind jaren 50 tot eind jaren 70 tot leven. Geniet van tijdloze klassiekers van artiesten zoals Elvis Presley\, Fats Domino\, Cliff Richard\, Del Shannon\, The Beatles\, The Searchers\, The Rolling Stones\, Fleetwood Mac en Creedence Clearwater Revival\, om maar een paar te noemen. \nVijf enthousiaste muzikanten brengen de sixties en seventies muziek weer tot leven op het podium\, met twee gitaren\, basgitaar en drums. Ze spelen met plezier de muziek van toen\, niet met het doel om de originelen tot in detail te reproduceren\, maar om de sfeer van die tijd weer te creëren. En uiteraard willen ze het publiek aan het dansen krijgen! \n🕑 Zondag 15 december\, 14:00 uur\n📍 De Kuip\, Colmschate\n💶 €5\,00 p.p.\n👉 Informatie: www.afslagoele.nl
URL:https://www.de-kuip.nl/agenda/concert-afslag-oele/
LOCATION:Gemeenschapshuis De Kuip\, Bloemendalsweg 1b\, Colmschate\, Overijssel\, 7429 AL\, Nederland
CATEGORIES:Dansen,Live in De Kuip,Live muziek,Ontmoeten
ATTACH;FMTTYPE=image/jpeg:https://www.de-kuip.nl/wp-content/uploads/2024/11/Afslag-Oele-in-De-Kuip-15-dec-2024-met-tekst.jpg
END:VEVENT
END:VCALENDAR