BEGIN:VCALENDAR
VERSION:2.0
PRODID:-//De Kuip - ECPv6.15.20//NONSGML v1.0//EN
CALSCALE:GREGORIAN
METHOD:PUBLISH
X-ORIGINAL-URL:https://www.de-kuip.nl
X-WR-CALDESC:Evenementen voor De Kuip
REFRESH-INTERVAL;VALUE=DURATION:PT1H
X-Robots-Tag:noindex
X-PUBLISHED-TTL:PT1H
BEGIN:VTIMEZONE
TZID:Europe/Amsterdam
BEGIN:DAYLIGHT
TZOFFSETFROM:+0100
TZOFFSETTO:+0200
TZNAME:CEST
DTSTART:20250330T010000
END:DAYLIGHT
BEGIN:STANDARD
TZOFFSETFROM:+0200
TZOFFSETTO:+0100
TZNAME:CET
DTSTART:20251026T010000
END:STANDARD
BEGIN:DAYLIGHT
TZOFFSETFROM:+0100
TZOFFSETTO:+0200
TZNAME:CEST
DTSTART:20260329T010000
END:DAYLIGHT
BEGIN:STANDARD
TZOFFSETFROM:+0200
TZOFFSETTO:+0100
TZNAME:CET
DTSTART:20261025T010000
END:STANDARD
BEGIN:DAYLIGHT
TZOFFSETFROM:+0100
TZOFFSETTO:+0200
TZNAME:CEST
DTSTART:20270328T010000
END:DAYLIGHT
BEGIN:STANDARD
TZOFFSETFROM:+0200
TZOFFSETTO:+0100
TZNAME:CET
DTSTART:20271031T010000
END:STANDARD
END:VTIMEZONE
BEGIN:VEVENT
DTSTART;TZID=Europe/Amsterdam:20260221T200000
DTEND;TZID=Europe/Amsterdam:20260221T235900
DTSTAMP:20260421T200936
CREATED:20251119T090037Z
LAST-MODIFIED:20260127T173602Z
UID:10000546-1771704000-1771718340@www.de-kuip.nl
SUMMARY:70's & 80's Disco Party
DESCRIPTION:🌟 Disco Party – 21 februari 2026 🌟\nGa terug in de tijd met de grootste hits uit de jaren 70 en 80!Op zaterdag 21 februari 2026 verandert de dansvloer in een schitterende retro-discotempel\, compleet met glitter\, groove en goede vibes. \n🎧 Met medewerking van DJ MoonlightLaat je meeslepen door de ultieme klassiekers\, funky beats en iconische discoknallers. Trek je beste disco-outfit aan en dans de nacht in! \nMet speciale popquiz en verrassingsoptreden! \nVerkleed mag\, hoeft niet… jij komt toch ook! \n✨ Let’s boogie! \n19.30 – 23.30 uur\n€ 8\,00 (aan de deur geen voorverkoop)
URL:https://www.de-kuip.nl/agenda/70s-80s-disco-party/
LOCATION:Foyer De Kuip\, Bloemendalsweg 1b\, Colmschate\, 7429AL
CATEGORIES:Activiteitenteam De Kuip,Agenda,Dansen,Evenementen,Ontmoeten
ATTACH;FMTTYPE=image/png:https://www.de-kuip.nl/wp-content/uploads/2026/01/Banner-70s-80s-disco-party.png
ORGANIZER;CN="Activiteitenteam De Kuip":MAILTO:activiteiten@de-kuip.nl
END:VEVENT
END:VCALENDAR