BEGIN:VCALENDAR
VERSION:2.0
PRODID:-//De Kuip - ECPv6.15.20//NONSGML v1.0//EN
CALSCALE:GREGORIAN
METHOD:PUBLISH
X-ORIGINAL-URL:https://www.de-kuip.nl
X-WR-CALDESC:Evenementen voor De Kuip
REFRESH-INTERVAL;VALUE=DURATION:PT1H
X-Robots-Tag:noindex
X-PUBLISHED-TTL:PT1H
BEGIN:VTIMEZONE
TZID:Europe/Amsterdam
BEGIN:DAYLIGHT
TZOFFSETFROM:+0100
TZOFFSETTO:+0200
TZNAME:CEST
DTSTART:20240331T010000
END:DAYLIGHT
BEGIN:STANDARD
TZOFFSETFROM:+0200
TZOFFSETTO:+0100
TZNAME:CET
DTSTART:20241027T010000
END:STANDARD
BEGIN:DAYLIGHT
TZOFFSETFROM:+0100
TZOFFSETTO:+0200
TZNAME:CEST
DTSTART:20250330T010000
END:DAYLIGHT
BEGIN:STANDARD
TZOFFSETFROM:+0200
TZOFFSETTO:+0100
TZNAME:CET
DTSTART:20251026T010000
END:STANDARD
BEGIN:DAYLIGHT
TZOFFSETFROM:+0100
TZOFFSETTO:+0200
TZNAME:CEST
DTSTART:20260329T010000
END:DAYLIGHT
BEGIN:STANDARD
TZOFFSETFROM:+0200
TZOFFSETTO:+0100
TZNAME:CET
DTSTART:20261025T010000
END:STANDARD
END:VTIMEZONE
BEGIN:VEVENT
DTSTART;TZID=Europe/Amsterdam:20250925T163000
DTEND;TZID=Europe/Amsterdam:20250925T183000
DTSTAMP:20260420T093516
CREATED:20250826T220120Z
LAST-MODIFIED:20250924T124139Z
UID:10000514-1758817800-1758825000@www.de-kuip.nl
SUMMARY:DOMIBO - Donderdagmiddagborrel
DESCRIPTION:Borreltijd = donderdag én vrijdag! 🍻Na een drukke werkweek is er niks beter dan samen proosten – en dat doen we niet één keer\, maar twee keer! \n🔸 DOMIBO – DonderdagmiddagborrelNa vier dagen knallen luiden we het weekend alvast in. Verwacht geen saaie sfeer\, maar een relaxte borrel met lekkere drankjes\, een tafel vol hapjes en gezelligheid. \n🔸 VRIJMIBO – VrijdagmiddagborrelDé klassieker! Werkweek klaar\, weekend aan. Perfect om samen af te schakelen\, bij te praten en gewoon te genieten van de vrijmibo-vibes. \nOf je nu op donderdag al een voorschot neemt op het weekend of vrijdag het échte startschot geeft: bij ons is er altijd plek voor gezelligheid. 🥳 \n👉 Kom gezellig langs vanaf 16:30 uur – donderdag of vrijdag\, of gewoon allebei!
URL:https://www.de-kuip.nl/agenda/domibo-donderdagmiddagborrel-4/
LOCATION:Gemeenschapshuis De Kuip\, Bloemendalsweg 1b\, Colmschate\, Overijssel\, 7429 AL\, Nederland
CATEGORIES:DOMIBO / VRIJMIBO
ATTACH;FMTTYPE=image/png:https://www.de-kuip.nl/wp-content/uploads/2025/08/Banner-DoMiBo-VrijMiBo-1.png
END:VEVENT
BEGIN:VEVENT
DTSTART;TZID=Europe/Amsterdam:20250926T163000
DTEND;TZID=Europe/Amsterdam:20250926T183000
DTSTAMP:20260420T093516
CREATED:20250826T220159Z
LAST-MODIFIED:20250924T125936Z
UID:10000515-1758904200-1758911400@www.de-kuip.nl
SUMMARY:VRIJMIBO – Vrijdagmiddagborrel
DESCRIPTION:Borreltijd = donderdag én vrijdag! 🍻Na een drukke werkweek is er niks beter dan samen proosten – en dat doen we niet één keer\, maar twee keer! \n🔸 DOMIBO – DonderdagmiddagborrelNa vier dagen knallen luiden we het weekend alvast in. Verwacht geen saaie sfeer\, maar een relaxte borrel met lekkere drankjes\, een tafel vol hapjes en gezelligheid. \n🔸 VRIJMIBO – VrijdagmiddagborrelDé klassieker! Werkweek klaar\, weekend aan. Perfect om samen af te schakelen\, bij te praten en gewoon te genieten van de vrijmibo-vibes. \nOf je nu op donderdag al een voorschot neemt op het weekend of vrijdag het échte startschot geeft: bij ons is er altijd plek voor gezelligheid. 🥳 \n👉 Kom gezellig langs vanaf 16:30 uur – donderdag of vrijdag\, of gewoon allebei!
URL:https://www.de-kuip.nl/agenda/vrijmibo-vrijdagmiddagborrel-4/
LOCATION:Gemeenschapshuis De Kuip\, Bloemendalsweg 1b\, Colmschate\, Overijssel\, 7429 AL\, Nederland
CATEGORIES:DOMIBO / VRIJMIBO
ATTACH;FMTTYPE=image/png:https://www.de-kuip.nl/wp-content/uploads/2025/08/Banner-DoMiBo-VrijMiBo-1.png
END:VEVENT
BEGIN:VEVENT
DTSTART;TZID=Europe/Amsterdam:20251002T163000
DTEND;TZID=Europe/Amsterdam:20251002T183000
DTSTAMP:20260420T093516
CREATED:20250924T130449Z
LAST-MODIFIED:20250924T130645Z
UID:10000527-1759422600-1759429800@www.de-kuip.nl
SUMMARY:DOMIBO - Donderdagmiddagborrel
DESCRIPTION:Borreltijd = donderdag én vrijdag! 🍻Na een drukke werkweek is er niks beter dan samen proosten – en dat doen we niet één keer\, maar twee keer! \n🔸 DOMIBO – DonderdagmiddagborrelNa vier dagen knallen luiden we het weekend alvast in. Verwacht geen saaie sfeer\, maar een relaxte borrel met lekkere drankjes\, een tafel vol hapjes en gezelligheid. \n🔸 VRIJMIBO – VrijdagmiddagborrelDé klassieker! Werkweek klaar\, weekend aan. Perfect om samen af te schakelen\, bij te praten en gewoon te genieten van de vrijmibo-vibes. \nOf je nu op donderdag al een voorschot neemt op het weekend of vrijdag het échte startschot geeft: bij ons is er altijd plek voor gezelligheid. 🥳 \n👉 Kom gezellig langs vanaf 16:30 uur – donderdag of vrijdag\, of gewoon allebei!
URL:https://www.de-kuip.nl/agenda/domibo-donderdagmiddagborrel/
LOCATION:Gemeenschapshuis De Kuip\, Bloemendalsweg 1b\, Colmschate\, Overijssel\, 7429 AL\, Nederland
CATEGORIES:Activiteitenteam De Kuip,DOMIBO / VRIJMIBO,Ontmoeten
ATTACH;FMTTYPE=image/png:https://www.de-kuip.nl/wp-content/uploads/2025/08/Banner-DoMiBo-VrijMiBo-1.png
ORGANIZER;CN="Activiteitenteam De Kuip":MAILTO:activiteiten@de-kuip.nl
END:VEVENT
BEGIN:VEVENT
DTSTART;TZID=Europe/Amsterdam:20251003T163000
DTEND;TZID=Europe/Amsterdam:20251003T183000
DTSTAMP:20260420T093516
CREATED:20250924T131158Z
LAST-MODIFIED:20250924T131248Z
UID:10000531-1759509000-1759516200@www.de-kuip.nl
SUMMARY:VRIJMIBO – Vrijdagmiddagborrel
DESCRIPTION:Borreltijd = donderdag én vrijdag! 🍻Na een drukke werkweek is er niks beter dan samen proosten – en dat doen we niet één keer\, maar twee keer! \n🔸 DOMIBO – DonderdagmiddagborrelNa vier dagen knallen luiden we het weekend alvast in. Verwacht geen saaie sfeer\, maar een relaxte borrel met lekkere drankjes\, een tafel vol hapjes en gezelligheid. \n🔸 VRIJMIBO – VrijdagmiddagborrelDé klassieker! Werkweek klaar\, weekend aan. Perfect om samen af te schakelen\, bij te praten en gewoon te genieten van de vrijmibo-vibes. \nOf je nu op donderdag al een voorschot neemt op het weekend of vrijdag het échte startschot geeft: bij ons is er altijd plek voor gezelligheid. 🥳 \n👉 Kom gezellig langs vanaf 16:30 uur – donderdag of vrijdag\, of gewoon allebei!
URL:https://www.de-kuip.nl/agenda/vrijmibo-vrijdagmiddagborrel/
LOCATION:Gemeenschapshuis De Kuip\, Bloemendalsweg 1b\, Colmschate\, Overijssel\, 7429 AL\, Nederland
CATEGORIES:Activiteitenteam De Kuip,DOMIBO / VRIJMIBO,Ontmoeten
ATTACH;FMTTYPE=image/png:https://www.de-kuip.nl/wp-content/uploads/2025/08/Banner-DoMiBo-VrijMiBo-1.png
ORGANIZER;CN="Activiteitenteam De Kuip":MAILTO:activiteiten@de-kuip.nl
END:VEVENT
BEGIN:VEVENT
DTSTART;TZID=Europe/Amsterdam:20251009T163000
DTEND;TZID=Europe/Amsterdam:20251009T183000
DTSTAMP:20260420T093516
CREATED:20250924T130521Z
LAST-MODIFIED:20250924T130655Z
UID:10000528-1760027400-1760034600@www.de-kuip.nl
SUMMARY:DOMIBO - Donderdagmiddagborrel
DESCRIPTION:Borreltijd = donderdag én vrijdag! 🍻Na een drukke werkweek is er niks beter dan samen proosten – en dat doen we niet één keer\, maar twee keer! \n🔸 DOMIBO – DonderdagmiddagborrelNa vier dagen knallen luiden we het weekend alvast in. Verwacht geen saaie sfeer\, maar een relaxte borrel met lekkere drankjes\, een tafel vol hapjes en gezelligheid. \n🔸 VRIJMIBO – VrijdagmiddagborrelDé klassieker! Werkweek klaar\, weekend aan. Perfect om samen af te schakelen\, bij te praten en gewoon te genieten van de vrijmibo-vibes. \nOf je nu op donderdag al een voorschot neemt op het weekend of vrijdag het échte startschot geeft: bij ons is er altijd plek voor gezelligheid. 🥳 \n👉 Kom gezellig langs vanaf 16:30 uur – donderdag of vrijdag\, of gewoon allebei!
URL:https://www.de-kuip.nl/agenda/domibo-donderdagmiddagborrel-2/
LOCATION:Gemeenschapshuis De Kuip\, Bloemendalsweg 1b\, Colmschate\, Overijssel\, 7429 AL\, Nederland
CATEGORIES:Activiteitenteam De Kuip,DOMIBO / VRIJMIBO,Ontmoeten
ATTACH;FMTTYPE=image/png:https://www.de-kuip.nl/wp-content/uploads/2025/08/Banner-DoMiBo-VrijMiBo-1.png
ORGANIZER;CN="Activiteitenteam De Kuip":MAILTO:activiteiten@de-kuip.nl
END:VEVENT
BEGIN:VEVENT
DTSTART;TZID=Europe/Amsterdam:20251010T163000
DTEND;TZID=Europe/Amsterdam:20251010T183000
DTSTAMP:20260420T093516
CREATED:20250924T131237Z
LAST-MODIFIED:20250924T131237Z
UID:10000532-1760113800-1760121000@www.de-kuip.nl
SUMMARY:VRIJMIBO – Vrijdagmiddagborrel
DESCRIPTION:Borreltijd = donderdag én vrijdag! 🍻Na een drukke werkweek is er niks beter dan samen proosten – en dat doen we niet één keer\, maar twee keer! \n🔸 DOMIBO – DonderdagmiddagborrelNa vier dagen knallen luiden we het weekend alvast in. Verwacht geen saaie sfeer\, maar een relaxte borrel met lekkere drankjes\, een tafel vol hapjes en gezelligheid. \n🔸 VRIJMIBO – VrijdagmiddagborrelDé klassieker! Werkweek klaar\, weekend aan. Perfect om samen af te schakelen\, bij te praten en gewoon te genieten van de vrijmibo-vibes. \nOf je nu op donderdag al een voorschot neemt op het weekend of vrijdag het échte startschot geeft: bij ons is er altijd plek voor gezelligheid. 🥳 \n👉 Kom gezellig langs vanaf 16:30 uur – donderdag of vrijdag\, of gewoon allebei!
URL:https://www.de-kuip.nl/agenda/vrijmibo-vrijdagmiddagborrel-2/
LOCATION:Gemeenschapshuis De Kuip\, Bloemendalsweg 1b\, Colmschate\, Overijssel\, 7429 AL\, Nederland
CATEGORIES:Activiteitenteam De Kuip,DOMIBO / VRIJMIBO,Ontmoeten
ATTACH;FMTTYPE=image/png:https://www.de-kuip.nl/wp-content/uploads/2025/08/Banner-DoMiBo-VrijMiBo-1.png
ORGANIZER;CN="Activiteitenteam De Kuip":MAILTO:activiteiten@de-kuip.nl
END:VEVENT
BEGIN:VEVENT
DTSTART;TZID=Europe/Amsterdam:20251016T163000
DTEND;TZID=Europe/Amsterdam:20251016T183000
DTSTAMP:20260420T093516
CREATED:20250924T130554Z
LAST-MODIFIED:20250924T130703Z
UID:10000529-1760632200-1760639400@www.de-kuip.nl
SUMMARY:DOMIBO - Donderdagmiddagborrel
DESCRIPTION:Borreltijd = donderdag én vrijdag! 🍻Na een drukke werkweek is er niks beter dan samen proosten – en dat doen we niet één keer\, maar twee keer! \n🔸 DOMIBO – DonderdagmiddagborrelNa vier dagen knallen luiden we het weekend alvast in. Verwacht geen saaie sfeer\, maar een relaxte borrel met lekkere drankjes\, een tafel vol hapjes en gezelligheid. \n🔸 VRIJMIBO – VrijdagmiddagborrelDé klassieker! Werkweek klaar\, weekend aan. Perfect om samen af te schakelen\, bij te praten en gewoon te genieten van de vrijmibo-vibes. \nOf je nu op donderdag al een voorschot neemt op het weekend of vrijdag het échte startschot geeft: bij ons is er altijd plek voor gezelligheid. 🥳 \n👉 Kom gezellig langs vanaf 16:30 uur – donderdag of vrijdag\, of gewoon allebei!
URL:https://www.de-kuip.nl/agenda/domibo-donderdagmiddagborrel-3/
LOCATION:Gemeenschapshuis De Kuip\, Bloemendalsweg 1b\, Colmschate\, Overijssel\, 7429 AL\, Nederland
CATEGORIES:Activiteitenteam De Kuip,DOMIBO / VRIJMIBO,Ontmoeten
ATTACH;FMTTYPE=image/png:https://www.de-kuip.nl/wp-content/uploads/2025/08/Banner-DoMiBo-VrijMiBo-1.png
ORGANIZER;CN="Activiteitenteam De Kuip":MAILTO:activiteiten@de-kuip.nl
END:VEVENT
BEGIN:VEVENT
DTSTART;TZID=Europe/Amsterdam:20251017T163000
DTEND;TZID=Europe/Amsterdam:20251017T183000
DTSTAMP:20260420T093516
CREATED:20250924T131319Z
LAST-MODIFIED:20250924T131320Z
UID:10000533-1760718600-1760725800@www.de-kuip.nl
SUMMARY:VRIJMIBO – Vrijdagmiddagborrel
DESCRIPTION:Borreltijd = donderdag én vrijdag! 🍻Na een drukke werkweek is er niks beter dan samen proosten – en dat doen we niet één keer\, maar twee keer! \n🔸 DOMIBO – DonderdagmiddagborrelNa vier dagen knallen luiden we het weekend alvast in. Verwacht geen saaie sfeer\, maar een relaxte borrel met lekkere drankjes\, een tafel vol hapjes en gezelligheid. \n🔸 VRIJMIBO – VrijdagmiddagborrelDé klassieker! Werkweek klaar\, weekend aan. Perfect om samen af te schakelen\, bij te praten en gewoon te genieten van de vrijmibo-vibes. \nOf je nu op donderdag al een voorschot neemt op het weekend of vrijdag het échte startschot geeft: bij ons is er altijd plek voor gezelligheid. 🥳 \n👉 Kom gezellig langs vanaf 16:30 uur – donderdag of vrijdag\, of gewoon allebei!
URL:https://www.de-kuip.nl/agenda/vrijmibo-vrijdagmiddagborrel-3/
LOCATION:Gemeenschapshuis De Kuip\, Bloemendalsweg 1b\, Colmschate\, Overijssel\, 7429 AL\, Nederland
CATEGORIES:Activiteitenteam De Kuip,DOMIBO / VRIJMIBO,Ontmoeten
ATTACH;FMTTYPE=image/png:https://www.de-kuip.nl/wp-content/uploads/2025/08/Banner-DoMiBo-VrijMiBo-1.png
ORGANIZER;CN="Activiteitenteam De Kuip":MAILTO:activiteiten@de-kuip.nl
END:VEVENT
BEGIN:VEVENT
DTSTART;TZID=Europe/Amsterdam:20251023T163000
DTEND;TZID=Europe/Amsterdam:20251023T183000
DTSTAMP:20260420T093516
CREATED:20250924T130626Z
LAST-MODIFIED:20250924T130707Z
UID:10000530-1761237000-1761244200@www.de-kuip.nl
SUMMARY:DOMIBO - Donderdagmiddagborrel
DESCRIPTION:Borreltijd = donderdag én vrijdag! 🍻Na een drukke werkweek is er niks beter dan samen proosten – en dat doen we niet één keer\, maar twee keer! \n🔸 DOMIBO – DonderdagmiddagborrelNa vier dagen knallen luiden we het weekend alvast in. Verwacht geen saaie sfeer\, maar een relaxte borrel met lekkere drankjes\, een tafel vol hapjes en gezelligheid. \n🔸 VRIJMIBO – VrijdagmiddagborrelDé klassieker! Werkweek klaar\, weekend aan. Perfect om samen af te schakelen\, bij te praten en gewoon te genieten van de vrijmibo-vibes. \nOf je nu op donderdag al een voorschot neemt op het weekend of vrijdag het échte startschot geeft: bij ons is er altijd plek voor gezelligheid. 🥳 \n👉 Kom gezellig langs vanaf 16:30 uur – donderdag of vrijdag\, of gewoon allebei!
URL:https://www.de-kuip.nl/agenda/domibo-donderdagmiddagborrel-5/
LOCATION:Gemeenschapshuis De Kuip\, Bloemendalsweg 1b\, Colmschate\, Overijssel\, 7429 AL\, Nederland
CATEGORIES:Activiteitenteam De Kuip,DOMIBO / VRIJMIBO,Ontmoeten
ATTACH;FMTTYPE=image/png:https://www.de-kuip.nl/wp-content/uploads/2025/08/Banner-DoMiBo-VrijMiBo-1.png
ORGANIZER;CN="Activiteitenteam De Kuip":MAILTO:activiteiten@de-kuip.nl
END:VEVENT
BEGIN:VEVENT
DTSTART;TZID=Europe/Amsterdam:20251024T163000
DTEND;TZID=Europe/Amsterdam:20251024T183000
DTSTAMP:20260420T093516
CREATED:20250924T131354Z
LAST-MODIFIED:20250924T131355Z
UID:10000534-1761323400-1761330600@www.de-kuip.nl
SUMMARY:VRIJMIBO – Vrijdagmiddagborrel
DESCRIPTION:Borreltijd = donderdag én vrijdag! 🍻Na een drukke werkweek is er niks beter dan samen proosten – en dat doen we niet één keer\, maar twee keer! \n🔸 DOMIBO – DonderdagmiddagborrelNa vier dagen knallen luiden we het weekend alvast in. Verwacht geen saaie sfeer\, maar een relaxte borrel met lekkere drankjes\, een tafel vol hapjes en gezelligheid. \n🔸 VRIJMIBO – VrijdagmiddagborrelDé klassieker! Werkweek klaar\, weekend aan. Perfect om samen af te schakelen\, bij te praten en gewoon te genieten van de vrijmibo-vibes. \nOf je nu op donderdag al een voorschot neemt op het weekend of vrijdag het échte startschot geeft: bij ons is er altijd plek voor gezelligheid. 🥳 \n👉 Kom gezellig langs vanaf 16:30 uur – donderdag of vrijdag\, of gewoon allebei!
URL:https://www.de-kuip.nl/agenda/vrijmibo-vrijdagmiddagborrel-5/
LOCATION:Gemeenschapshuis De Kuip\, Bloemendalsweg 1b\, Colmschate\, Overijssel\, 7429 AL\, Nederland
CATEGORIES:Activiteitenteam De Kuip,DOMIBO / VRIJMIBO,Ontmoeten
ATTACH;FMTTYPE=image/png:https://www.de-kuip.nl/wp-content/uploads/2025/08/Banner-DoMiBo-VrijMiBo-1.png
ORGANIZER;CN="Activiteitenteam De Kuip":MAILTO:activiteiten@de-kuip.nl
END:VEVENT
BEGIN:VEVENT
DTSTART;TZID=Europe/Amsterdam:20251031T163000
DTEND;TZID=Europe/Amsterdam:20251031T183000
DTSTAMP:20260420T093516
CREATED:20250924T131425Z
LAST-MODIFIED:20250924T131425Z
UID:10000535-1761928200-1761935400@www.de-kuip.nl
SUMMARY:VRIJMIBO – Vrijdagmiddagborrel
DESCRIPTION:Borreltijd = donderdag én vrijdag! 🍻Na een drukke werkweek is er niks beter dan samen proosten – en dat doen we niet één keer\, maar twee keer! \n🔸 DOMIBO – DonderdagmiddagborrelNa vier dagen knallen luiden we het weekend alvast in. Verwacht geen saaie sfeer\, maar een relaxte borrel met lekkere drankjes\, een tafel vol hapjes en gezelligheid. \n🔸 VRIJMIBO – VrijdagmiddagborrelDé klassieker! Werkweek klaar\, weekend aan. Perfect om samen af te schakelen\, bij te praten en gewoon te genieten van de vrijmibo-vibes. \nOf je nu op donderdag al een voorschot neemt op het weekend of vrijdag het échte startschot geeft: bij ons is er altijd plek voor gezelligheid. 🥳 \n👉 Kom gezellig langs vanaf 16:30 uur – donderdag of vrijdag\, of gewoon allebei!
URL:https://www.de-kuip.nl/agenda/vrijmibo-vrijdagmiddagborrel-6/
LOCATION:Gemeenschapshuis De Kuip\, Bloemendalsweg 1b\, Colmschate\, Overijssel\, 7429 AL\, Nederland
CATEGORIES:Activiteitenteam De Kuip,DOMIBO / VRIJMIBO,Ontmoeten
ATTACH;FMTTYPE=image/png:https://www.de-kuip.nl/wp-content/uploads/2025/08/Banner-DoMiBo-VrijMiBo-1.png
ORGANIZER;CN="Activiteitenteam De Kuip":MAILTO:activiteiten@de-kuip.nl
END:VEVENT
END:VCALENDAR