BEGIN:VCALENDAR
VERSION:2.0
PRODID:-//De Kuip - ECPv6.15.20//NONSGML v1.0//EN
CALSCALE:GREGORIAN
METHOD:PUBLISH
X-ORIGINAL-URL:https://www.de-kuip.nl
X-WR-CALDESC:Evenementen voor De Kuip
REFRESH-INTERVAL;VALUE=DURATION:PT1H
X-Robots-Tag:noindex
X-PUBLISHED-TTL:PT1H
BEGIN:VTIMEZONE
TZID:Europe/Amsterdam
BEGIN:DAYLIGHT
TZOFFSETFROM:+0100
TZOFFSETTO:+0200
TZNAME:CEST
DTSTART:20250330T010000
END:DAYLIGHT
BEGIN:STANDARD
TZOFFSETFROM:+0200
TZOFFSETTO:+0100
TZNAME:CET
DTSTART:20251026T010000
END:STANDARD
BEGIN:DAYLIGHT
TZOFFSETFROM:+0100
TZOFFSETTO:+0200
TZNAME:CEST
DTSTART:20260329T010000
END:DAYLIGHT
BEGIN:STANDARD
TZOFFSETFROM:+0200
TZOFFSETTO:+0100
TZNAME:CET
DTSTART:20261025T010000
END:STANDARD
BEGIN:DAYLIGHT
TZOFFSETFROM:+0100
TZOFFSETTO:+0200
TZNAME:CEST
DTSTART:20270328T010000
END:DAYLIGHT
BEGIN:STANDARD
TZOFFSETFROM:+0200
TZOFFSETTO:+0100
TZNAME:CET
DTSTART:20271031T010000
END:STANDARD
END:VTIMEZONE
BEGIN:VEVENT
DTSTART;TZID=Europe/Amsterdam:20260226T200000
DTEND;TZID=Europe/Amsterdam:20260226T210000
DTSTAMP:20260421T130705
CREATED:20260204T120834Z
LAST-MODIFIED:20260204T121306Z
UID:10001205-1772136000-1772139600@www.de-kuip.nl
SUMMARY:Lezing SIED: Over de zuivelindustrie in Deventer en omgeving
DESCRIPTION:Ter gelegenheid van de restauratie van de schoorsteen van de voormalige Cobercofabriek in 2025 deed de SIED onderzoek naar de geschiedenis van de zuivelindustrie in Deventer en omgeving. Op 26 februari verzorgen vrijwilligers van de SIED hierover een lezing in Gemeenschapshuis De Kuip. Daarbij wordt ook aandacht besteed aan de zuivelfabriek in Colmschate. \nVoor belangstellenden is de publicatie De Knuffelpijp gratis beschikbaar. \n\n\n🚪 Zaal open: 19.30 uur \n\n\n🕗 Aanvang: 20.00 uur \n\n\n🎟️ Toegang: gratis \n\n\nDe lezing\nCoberco in Deventer \nIn het voorjaar van 2025 werd de schoorsteen van de voormalige condensfabriek van Coberco gerestaureerd. Het fabrieksgebouw zelf werd al in 2019 afgebroken\, maar de schoorsteen bleef gelukkig behouden. Dankzij bijdragen van de gemeente Deventer en de provincie Overijssel kon de restauratie worden uitgevoerd. \nDe Stichting Industrieel Erfgoed Deventer (SIED) nam het initiatief om het verhaal van de zuivelindustrie in Deventer en omgeving vast te leggen en te vertellen. Dit resulteerde in de publicatie De Knuffelpijp\, een fiets- en autoroute\, een reizende tentoonstelling en een reeks lezingen. De lezing van 26 februari maakt onderdeel uit van dit project. \nRond het begin van de 20e eeuw ontstonden in de regio Deventer meerdere fabrieken voor de verwerking van melk. Ook in Colmschate was van 1915 tot 1971 een zuivelfabriek actief: de Coöperatieve Zuivelfabriek De Weteringen. Het fabriekspand werd in 2022 gesloopt\, maar een deel van de schoorsteen is blijven staan. \nDe lezing is interessant voor iedereen met belangstelling voor de geschiedenis van Deventer\, Colmschate en omgeving. Mensen die nog persoonlijke herinneringen hebben aan de fabriek — bijvoorbeeld als werknemer\, omwonende of leverancier — worden van harte uitgenodigd deze met ons te delen. \nMeer lezen over het zuivelproject van de SIED? Kijk op:https://www.sied.nl/activiteiten/’knuffelpijp’-en-zuivelindustrie-65A5.html
URL:https://www.de-kuip.nl/agenda/lezing-sied-over-de-zuivelindustrie-in-deventer-en-omgeving/
LOCATION:Gemeenschapshuis De Kuip\, Bloemendalsweg 1b\, Colmschate\, Overijssel\, 7429 AL\, Nederland
CATEGORIES:Activiteitenteam De Kuip,Agenda,Algemeen,Lezing,Ontmoeten
ATTACH;FMTTYPE=image/png:https://www.de-kuip.nl/wp-content/uploads/2026/02/Banner-lezing-SIED-.png
ORGANIZER;CN="Activiteitenteam De Kuip":MAILTO:activiteiten@de-kuip.nl
END:VEVENT
BEGIN:VEVENT
DTSTART;TZID=Europe/Amsterdam:20260423T200000
DTEND;TZID=Europe/Amsterdam:20260423T210000
DTSTAMP:20260421T130705
CREATED:20260311T153236Z
LAST-MODIFIED:20260311T153727Z
UID:10001208-1776974400-1776978000@www.de-kuip.nl
SUMMARY:Presentatie Schipbeekbad door Caroline Dijkerman
DESCRIPTION:Presentatie: Het Schipbeekbad\nOp donderdag 23 april organiseren wij in onze foyer een bijzondere presentatie over de geschiedenis van het Schipbeekbad. \nSchipbeekbad\nIn 1938 bouwden de gebroeders Evers\, een aannemersbedrijf uit Deventer\, hun eigen zwembad: het Schipbeekbad. Het groeide al snel uit tot een geliefde plek voor inwoners uit onder andere Epse\, Gorssel\, Deventer\, Snippeling en Colmschate. Het was een echt familiebad. \nIn de jaren vijftig\, toen weinig mensen op vakantie gingen\, was het bad een populaire ontmoetingsplek voor jongeren. Er werd gevoetbald op de ligweides en genoten van de zon tegen de dijkjes. \nEind jaren zestig wilde de gemeente Deventer het industrieterrein uitbreiden en kwam de A1 steeds dichterbij. Na de zomer van 1971 viel daarom het doek voor het Schipbeekbad. De Schipbeek werd omgelegd\, waardoor de watertoevoer verdween. In de plannen zou het bad plaatsmaken voor wegen en industrie. \nDoor de oliecrisis in de jaren zeventig ontwikkelde het industriegebied zich echter langzamer dan verwacht. Uiteindelijk besloot de gemeente Deventer in de jaren negentig om het voormalige bad te behouden als natuurpark. Zo bleef\, midden tussen de fabrieksgebouwen\, een unieke plek bestaan. \nDe lezing\nCaroline Dijkerman (59) groeide op in Epse. Zelf zwom zij nooit in het Schipbeekbad\, maar haar ouders leerden elkaar daar kennen. Van 2019 tot 2025 deed zij uitgebreid onderzoek naar de geschiedenis van het bad. De resultaten zijn vastgelegd in haar boek “Schipbeekbad: een plek die nooit verdween”. \nTijdens haar lezing vertelt zij over de geschiedenis van het bad en deelt zij bijzondere ontdekkingen\, ondersteund door foto’s en kaartmateriaal. \n📅 Donderdag 23 april🚪 Deur open: 19.30 uur🎤 Aanvang: 20.00 uur🎟️ Toegang: gratis \nIedereen is van harte welkom!
URL:https://www.de-kuip.nl/agenda/presentatie-schipbeekbad-door-caroline-dijkerman/
LOCATION:Foyer De Kuip\, Bloemendalsweg 1b\, Colmschate\, 7429AL
CATEGORIES:Activiteitenteam De Kuip,Agenda,Lezing,Ontmoeten,Presentatie
ATTACH;FMTTYPE=image/png:https://www.de-kuip.nl/wp-content/uploads/2026/03/Banner-presentatie-Schipbeekbad.png
ORGANIZER;CN="Activiteitenteam De Kuip":MAILTO:activiteiten@de-kuip.nl
END:VEVENT
END:VCALENDAR