BEGIN:VCALENDAR
VERSION:2.0
PRODID:-//De Kuip - ECPv6.15.20//NONSGML v1.0//EN
CALSCALE:GREGORIAN
METHOD:PUBLISH
X-WR-CALNAME:De Kuip
X-ORIGINAL-URL:https://www.de-kuip.nl
X-WR-CALDESC:Evenementen voor De Kuip
REFRESH-INTERVAL;VALUE=DURATION:PT1H
X-Robots-Tag:noindex
X-PUBLISHED-TTL:PT1H
BEGIN:VTIMEZONE
TZID:Europe/Amsterdam
BEGIN:DAYLIGHT
TZOFFSETFROM:+0100
TZOFFSETTO:+0200
TZNAME:CEST
DTSTART:20240331T010000
END:DAYLIGHT
BEGIN:STANDARD
TZOFFSETFROM:+0200
TZOFFSETTO:+0100
TZNAME:CET
DTSTART:20241027T010000
END:STANDARD
BEGIN:DAYLIGHT
TZOFFSETFROM:+0100
TZOFFSETTO:+0200
TZNAME:CEST
DTSTART:20250330T010000
END:DAYLIGHT
BEGIN:STANDARD
TZOFFSETFROM:+0200
TZOFFSETTO:+0100
TZNAME:CET
DTSTART:20251026T010000
END:STANDARD
BEGIN:DAYLIGHT
TZOFFSETFROM:+0100
TZOFFSETTO:+0200
TZNAME:CEST
DTSTART:20260329T010000
END:DAYLIGHT
BEGIN:STANDARD
TZOFFSETFROM:+0200
TZOFFSETTO:+0100
TZNAME:CET
DTSTART:20261025T010000
END:STANDARD
BEGIN:DAYLIGHT
TZOFFSETFROM:+0100
TZOFFSETTO:+0200
TZNAME:CEST
DTSTART:20270328T010000
END:DAYLIGHT
BEGIN:STANDARD
TZOFFSETFROM:+0200
TZOFFSETTO:+0100
TZNAME:CET
DTSTART:20271031T010000
END:STANDARD
END:VTIMEZONE
BEGIN:VEVENT
DTSTART;TZID=Europe/Amsterdam:20260227T180000
DTEND;TZID=Europe/Amsterdam:20260227T220000
DTSTAMP:20260421T144539
CREATED:20251119T123307Z
LAST-MODIFIED:20251221T141727Z
UID:10000547-1772215200-1772229600@www.de-kuip.nl
SUMMARY:Creatieve spirituele beurs
DESCRIPTION:Op vrijdag 27 februari organiseert Tilly Dijks een creatieve spirituele beurs in de foyer. \nWat is er te doen op de beurs: \n\nMediums en healers\nCounseling\nReadings\nReiki\nStoel/tafel behandelingen\nBijenwastekeningen\nWaterlezingen\nNummerologie\nFoto lezen\nSamanisme handelingen\nBijzondere tekeningen uitleg\nFamilie opstellingen\n\n  \n📅 27 februari 2026\n🕕 18.00 – 22.00 uur\n💶 Gratis toegang
URL:https://www.de-kuip.nl/agenda/creatieve-spirituele-beurs/
LOCATION:Foyer De Kuip\, Bloemendalsweg 1b\, Colmschate\, 7429AL
CATEGORIES:Agenda,Markt,Ontmoeten
ATTACH;FMTTYPE=image/jpeg:https://www.de-kuip.nl/wp-content/uploads/2025/11/Creatieve-spirituele-beurs-2026.jpg
ORGANIZER;CN="Tilly Dijks":MAILTO:dijks.tilly@gmail.com
END:VEVENT
BEGIN:VEVENT
DTSTART;TZID=Europe/Amsterdam:20251128T193000
DTEND;TZID=Europe/Amsterdam:20251128T213000
DTSTAMP:20260421T144539
CREATED:20251024T141826Z
LAST-MODIFIED:20251024T143235Z
UID:10000541-1764358200-1764365400@www.de-kuip.nl
SUMMARY:Magic Wintermarkt
DESCRIPTION:🎄 Beleef de Magic Wintermarkt in de Kuip! ✨ \nKom gezellig langs op de Magic Wintermarkt in de Kuip en geniet van een avond vol sfeer en gezelligheid. Ontdek unieke kraampjes\, proef heerlijke wafels en laat je betoveren door de winterse ambiance. \nDaarnaast kun je:🎁 Meedoen aan een loterij🖼️ Genieten van de expositie van ProperArt🎷 Luisteren naar de Roundabout Jazz Band🕯️ Langsgaan bij Kaarsenmakerij De Linde❄️ En natuurlijk… een magische Meet & Greet met Elsa bekend van Frozen beleven! \nIn de prachtig versierde foyer is er volop ruimte om elkaar te ontmoeten\, herinneringen op te halen én nieuwe te maken.Kortom: een betoverende avond vol warmte\, licht en gezelligheid! 💫
URL:https://www.de-kuip.nl/agenda/magic-wintermarkt/
LOCATION:Gemeenschapshuis De Kuip\, Bloemendalsweg 1b\, Colmschate\, Overijssel\, 7429 AL\, Nederland
CATEGORIES:Activiteitenteam De Kuip,Evenementen,Live muziek,Markt,Ontmoeten,Proeverij
ATTACH;FMTTYPE=image/png:https://www.de-kuip.nl/wp-content/uploads/2025/10/Banner-Magic-Wintermarkt-2025.png
ORGANIZER;CN="Activiteitenteam De Kuip":MAILTO:activiteiten@de-kuip.nl
END:VEVENT
BEGIN:VEVENT
DTSTART;TZID=Europe/Amsterdam:20251028T140000
DTEND;TZID=Europe/Amsterdam:20251028T160000
DTSTAMP:20260421T144539
CREATED:20250928T073739Z
LAST-MODIFIED:20250928T073912Z
UID:10000537-1761660000-1761667200@www.de-kuip.nl
SUMMARY:Interessemarkt 2025
DESCRIPTION:🤝 Interessemarkt Colmschate & De Vijfhoek \nZoekt u iemand om leuke dingen mee te doen? 🎲Wilt u mensen leren kennen met dezelfde interesses? 👋Gaat u graag ergens naartoe\, maar niet alleen? 🚶‍♂️🚶‍♀️Wilt u iets doen in uw buurt of uw talenten inzetten? 🌱✨Of weet u nog niet precies waar u bij wilt aansluiten? 🤔 \n💡 U bent niet de enige! \nKom naar de Interessemarkt en ontmoet andere buurtbewoners. 🏘️Hier vindt u tal van verenigingen en organisaties uit Colmschate en De Vijfhoek die nieuwe leden\, vrijwilligers of deelnemers zoeken – en waar u van harte welkom bent! ❤️ \n📅 Datum & tijd: 28 oktober 2025 | 14.00 uur📍 Locatie: Foyer Gemeenschapshuis De Kuip \n👋 Kom langs\, ontdek wat er allemaal te doen is en maak nieuwe contacten!
URL:https://www.de-kuip.nl/agenda/interessemarkt-2025/
LOCATION:Gemeenschapshuis De Kuip\, Bloemendalsweg 1b\, Colmschate\, Overijssel\, 7429 AL\, Nederland
CATEGORIES:Activiteitenteam De Kuip,Evenementen,Inloopmiddag,Markt,Ontmoeten,Voor Elkaar Teams Deventer
ATTACH;FMTTYPE=image/png:https://www.de-kuip.nl/wp-content/uploads/2025/09/Banner-interessemarkt-2025.png
ORGANIZER;CN="Voor Elkaar Teams Deventer":MAILTO:b.vanrozendaal@voorelkaarteamsdeventer.nl
END:VEVENT
BEGIN:VEVENT
DTSTART;TZID=Europe/Amsterdam:20250921T120000
DTEND;TZID=Europe/Amsterdam:20250921T180000
DTSTAMP:20260421T144539
CREATED:20250514T114029Z
LAST-MODIFIED:20250514T114029Z
UID:10000470-1758456000-1758477600@www.de-kuip.nl
SUMMARY:La Loca Ibiza Markt september 2025
DESCRIPTION:De La Loca Ibizamarkt is een sprankelend evenement vol Ibiza vibes! Verwacht bohemian kleding\, sieraden\, accessoires\, handgemaakte producten\, unieke kraampjes en een relaxte sfeer met live muziek. \nMeer informatie en deelnemers: https://fb.me/e/8RRBvul0L \nDe markt is op het evenemententerrein met horeca en toiletten in De Kuip
URL:https://www.de-kuip.nl/agenda/la-loca-ibiza-markt-september-2025/
LOCATION:Gemeenschapshuis De Kuip\, Bloemendalsweg 1b\, Colmschate\, Overijssel\, 7429 AL\, Nederland
CATEGORIES:Evenementen,Live muziek,Markt,Ontmoeten,Presentatie,Proeverij,Workshops
ATTACH;FMTTYPE=image/jpeg:https://www.de-kuip.nl/wp-content/uploads/2025/05/La-Loca-Ibiza-Markt.jpg
END:VEVENT
BEGIN:VEVENT
DTSTART;TZID=Europe/Amsterdam:20250713T120000
DTEND;TZID=Europe/Amsterdam:20250713T180000
DTSTAMP:20260421T144539
CREATED:20250514T113345Z
LAST-MODIFIED:20250604T073119Z
UID:10000469-1752408000-1752429600@www.de-kuip.nl
SUMMARY:La Loca Ibiza Markt juli 2025
DESCRIPTION:De La Loca Ibizamarkt is een sprankelend evenement vol Ibiza vibes! Verwacht bohemian kleding\, sieraden\, accessoires\, handgemaakte producten\, unieke kraampjes en een relaxte sfeer met live muziek. \nMeer informatie: https://fb.me/e/8RRBvul0L of via info@lalocafashion.nl. \nDe markt is op het evenemententerrein met horeca en toiletten in De Kuip
URL:https://www.de-kuip.nl/agenda/la-loca-ibiza-markt-juli-2025/
LOCATION:Evenemententerrein De Kuip\, Bloemendalsweg 1\, Colmschate\, Overijssel\, 7429AL\, Nederland
CATEGORIES:Evenementen,Live muziek,Markt,Ontmoeten,Presentatie,Proeverij,Workshops
ATTACH;FMTTYPE=image/jpeg:https://www.de-kuip.nl/wp-content/uploads/2025/05/La-Loca-Ibiza-Markt.jpg
END:VEVENT
END:VCALENDAR