BEGIN:VCALENDAR
VERSION:2.0
PRODID:-//De Kuip - ECPv6.15.20//NONSGML v1.0//EN
CALSCALE:GREGORIAN
METHOD:PUBLISH
X-ORIGINAL-URL:https://www.de-kuip.nl
X-WR-CALDESC:Evenementen voor De Kuip
REFRESH-INTERVAL;VALUE=DURATION:PT1H
X-Robots-Tag:noindex
X-PUBLISHED-TTL:PT1H
BEGIN:VTIMEZONE
TZID:Europe/Amsterdam
BEGIN:DAYLIGHT
TZOFFSETFROM:+0100
TZOFFSETTO:+0200
TZNAME:CEST
DTSTART:20250330T010000
END:DAYLIGHT
BEGIN:STANDARD
TZOFFSETFROM:+0200
TZOFFSETTO:+0100
TZNAME:CET
DTSTART:20251026T010000
END:STANDARD
BEGIN:DAYLIGHT
TZOFFSETFROM:+0100
TZOFFSETTO:+0200
TZNAME:CEST
DTSTART:20260329T010000
END:DAYLIGHT
BEGIN:STANDARD
TZOFFSETFROM:+0200
TZOFFSETTO:+0100
TZNAME:CET
DTSTART:20261025T010000
END:STANDARD
BEGIN:DAYLIGHT
TZOFFSETFROM:+0100
TZOFFSETTO:+0200
TZNAME:CEST
DTSTART:20270328T010000
END:DAYLIGHT
BEGIN:STANDARD
TZOFFSETFROM:+0200
TZOFFSETTO:+0100
TZNAME:CET
DTSTART:20271031T010000
END:STANDARD
END:VTIMEZONE
BEGIN:VEVENT
DTSTART;TZID=Europe/Amsterdam:20260122T133000
DTEND;TZID=Europe/Amsterdam:20260122T143000
DTSTAMP:20260419T180847
CREATED:20251123T083638Z
LAST-MODIFIED:20251221T140838Z
UID:10000549-1769088600-1769092200@www.de-kuip.nl
SUMMARY:Themathee: Dominee Gert Wijnstok
DESCRIPTION:Sinds september vorig jaar werkt Gert als dominee in de Protestantse Gemeente van de Ichtuskerk\, vlak bij De Kuip. De gemeenteleden wonen verspreid over Colmschate-Schalkhaar\, een groot gebied waar hij inmiddels al heel wat kilometers heeft afgelegd op de fiets . \nTijdens zijn tochten ontmoet hij niet alleen gemeenteleden\, maar ook veel andere mensen. Gert zoekt graag de plekken op waar het gewone\, dagelijkse leven zich afspeelt. En naast gemeenteleden komt hij natuurlijk ook veel andere mensen tegen en kom ik graag op plekken waar zich het alledaagse leven afspeelt. Daarom komt hij ook graag op de thee in De Kuip! \nGert kan op een ontzettend leuke en boeiende manier vertellen over zijn werk als dominee. Hij speelt in op de bezoekers en op de vragen die binnenkomen. Er is geen vast onderwerp\, geen vooraf bedacht verhaal — het is écht alsof je even bij hem op bezoek bent. \nPraktische informatie\n\n\nDatum: donderdag 22 januari 2026 \n\n\nTijd: 13.30 – 14.30 uur \n\n\nToegang: gratis
URL:https://www.de-kuip.nl/agenda/themathee-dominee-gert-wijnstok/
LOCATION:Foyer De Kuip\, Bloemendalsweg 1b\, Colmschate\, 7429AL
CATEGORIES:Activiteitenteam De Kuip,Agenda,Inloopmiddag,Ontmoeten,Themathee,Voor Elkaar Teams Deventer
ATTACH;FMTTYPE=image/png:https://www.de-kuip.nl/wp-content/uploads/2025/11/Themathee-januari-2026.png
ORGANIZER;CN="Activiteitenteam De Kuip":MAILTO:activiteiten@de-kuip.nl
END:VEVENT
BEGIN:VEVENT
DTSTART;TZID=Europe/Amsterdam:20260202T193000
DTEND;TZID=Europe/Amsterdam:20260202T213000
DTSTAMP:20260419T180847
CREATED:20251119T124752Z
LAST-MODIFIED:20260114T064021Z
UID:10000548-1770060600-1770067800@www.de-kuip.nl
SUMMARY:Spectrum café
DESCRIPTION:In samenwerking met Het VoorElkaarTeam openen we het Spectrum Café in Gemeenschapshuis De Kuip! \nEen gezellige en prikkelarme ontmoetingsplek voor mensen van 18 jaar en ouder die binnen het autismespectrum vallen.Het is een plek waar je helemaal jezelf mag zijn\, waar je anderen kunt ontmoeten en samen kunt kletsen of activiteiten kunt doen. Je mag natuurlijk ook zelf iets van huis meenemen om hier te doen. \nHet eerste uur van de avond staat in het teken van een themagesprek.Daarnaast liggen er op tafel verschillende gespreksonderwerpen waar je samen over kunt praten.Vind je het spannend? Je mag natuurlijk ook een goede vriend(in)\, begeleider of familielid meenemen. \nErvaringsdeskundigen bieden een luisterend oor en hulp wanneer het even niet gaat.Spreek ze vooral aan als je vragen hebt of als je er zelf niet helemaal uitkomt. \nWees welkom in een gezellige huiskamersfeer waar alles mag en niets hoeft\, op de eerste maandag van de maand van 19:30 tot 21:30 uur! \nAanmelden\nAanmelden kan door hier te klikken.
URL:https://www.de-kuip.nl/agenda/spectrum-cafe-februari-2026/2026-02-02/
LOCATION:Foyer De Kuip\, Bloemendalsweg 1b\, Colmschate\, 7429AL
CATEGORIES:Activiteitenteam De Kuip,Agenda,Ontmoeten,Spectrum café,Voor Elkaar Teams Deventer
ATTACH;FMTTYPE=image/png:https://www.de-kuip.nl/wp-content/uploads/2025/11/Banner-Spectrumcafe-1-1.png
ORGANIZER;CN="Activiteitenteam De Kuip":MAILTO:activiteiten@de-kuip.nl
END:VEVENT
BEGIN:VEVENT
DTSTART;TZID=Europe/Amsterdam:20260302T193000
DTEND;TZID=Europe/Amsterdam:20260302T213000
DTSTAMP:20260419T180847
CREATED:20251119T124752Z
LAST-MODIFIED:20260114T064021Z
UID:10000583-1772479800-1772487000@www.de-kuip.nl
SUMMARY:Spectrum café
DESCRIPTION:In samenwerking met Het VoorElkaarTeam openen we het Spectrum Café in Gemeenschapshuis De Kuip! \nEen gezellige en prikkelarme ontmoetingsplek voor mensen van 18 jaar en ouder die binnen het autismespectrum vallen.Het is een plek waar je helemaal jezelf mag zijn\, waar je anderen kunt ontmoeten en samen kunt kletsen of activiteiten kunt doen. Je mag natuurlijk ook zelf iets van huis meenemen om hier te doen. \nHet eerste uur van de avond staat in het teken van een themagesprek.Daarnaast liggen er op tafel verschillende gespreksonderwerpen waar je samen over kunt praten.Vind je het spannend? Je mag natuurlijk ook een goede vriend(in)\, begeleider of familielid meenemen. \nErvaringsdeskundigen bieden een luisterend oor en hulp wanneer het even niet gaat.Spreek ze vooral aan als je vragen hebt of als je er zelf niet helemaal uitkomt. \nWees welkom in een gezellige huiskamersfeer waar alles mag en niets hoeft\, op de eerste maandag van de maand van 19:30 tot 21:30 uur! \nAanmelden\nAanmelden kan door hier te klikken.
URL:https://www.de-kuip.nl/agenda/spectrum-cafe-februari-2026/2026-03-02/
LOCATION:Foyer De Kuip\, Bloemendalsweg 1b\, Colmschate\, 7429AL
CATEGORIES:Activiteitenteam De Kuip,Agenda,Ontmoeten,Spectrum café,Voor Elkaar Teams Deventer
ATTACH;FMTTYPE=image/png:https://www.de-kuip.nl/wp-content/uploads/2025/11/Banner-Spectrumcafe-1-1.png
ORGANIZER;CN="Activiteitenteam De Kuip":MAILTO:activiteiten@de-kuip.nl
END:VEVENT
BEGIN:VEVENT
DTSTART;TZID=Europe/Amsterdam:20260331T140000
DTEND;TZID=Europe/Amsterdam:20260331T160000
DTSTAMP:20260419T180847
CREATED:20260318T161151Z
LAST-MODIFIED:20260318T161720Z
UID:10001210-1774965600-1774972800@www.de-kuip.nl
SUMMARY:Informatiemiddag Digitale weerbaarheid
DESCRIPTION:Hulp en advies over digitale veiligheid. Maak jezelf weerbaarder en kom naar de inloopmiddag bij Gemeenschapshuis de Kuip. \nEr is een digitale specialist van de politie aanwezig. We geven u voorlichting en informatie die u mee naar huis kunt nemen. \nMeer informatie?\nwww.echtnietvandaag.nl
URL:https://www.de-kuip.nl/agenda/informatiemiddag-digitale-weerbaarheid/
LOCATION:Foyer De Kuip\, Bloemendalsweg 1b\, Colmschate\, 7429AL
CATEGORIES:Activiteitenteam De Kuip,Agenda,Inloopmiddag,Ontmoeten,Presentatie,Voor Elkaar Teams Deventer
ATTACH;FMTTYPE=image/png:https://www.de-kuip.nl/wp-content/uploads/2026/03/Banner-informatiemiddag-digitale-weerbaarheid.png
ORGANIZER;CN="Voor Elkaar Teams Deventer":MAILTO:b.vanrozendaal@voorelkaarteamsdeventer.nl
END:VEVENT
BEGIN:VEVENT
DTSTART;TZID=Europe/Amsterdam:20260504T193000
DTEND;TZID=Europe/Amsterdam:20260504T213000
DTSTAMP:20260419T180847
CREATED:20251119T124752Z
LAST-MODIFIED:20260114T064021Z
UID:10000592-1777923000-1777930200@www.de-kuip.nl
SUMMARY:Spectrum café
DESCRIPTION:In samenwerking met Het VoorElkaarTeam openen we het Spectrum Café in Gemeenschapshuis De Kuip! \nEen gezellige en prikkelarme ontmoetingsplek voor mensen van 18 jaar en ouder die binnen het autismespectrum vallen.Het is een plek waar je helemaal jezelf mag zijn\, waar je anderen kunt ontmoeten en samen kunt kletsen of activiteiten kunt doen. Je mag natuurlijk ook zelf iets van huis meenemen om hier te doen. \nHet eerste uur van de avond staat in het teken van een themagesprek.Daarnaast liggen er op tafel verschillende gespreksonderwerpen waar je samen over kunt praten.Vind je het spannend? Je mag natuurlijk ook een goede vriend(in)\, begeleider of familielid meenemen. \nErvaringsdeskundigen bieden een luisterend oor en hulp wanneer het even niet gaat.Spreek ze vooral aan als je vragen hebt of als je er zelf niet helemaal uitkomt. \nWees welkom in een gezellige huiskamersfeer waar alles mag en niets hoeft\, op de eerste maandag van de maand van 19:30 tot 21:30 uur! \nAanmelden\nAanmelden kan door hier te klikken.
URL:https://www.de-kuip.nl/agenda/spectrum-cafe-februari-2026/2026-05-04/
LOCATION:Foyer De Kuip\, Bloemendalsweg 1b\, Colmschate\, 7429AL
CATEGORIES:Activiteitenteam De Kuip,Agenda,Ontmoeten,Spectrum café,Voor Elkaar Teams Deventer
ATTACH;FMTTYPE=image/png:https://www.de-kuip.nl/wp-content/uploads/2025/11/Banner-Spectrumcafe-1-1.png
ORGANIZER;CN="Activiteitenteam De Kuip":MAILTO:activiteiten@de-kuip.nl
END:VEVENT
BEGIN:VEVENT
DTSTART;TZID=Europe/Amsterdam:20260601T193000
DTEND;TZID=Europe/Amsterdam:20260601T213000
DTSTAMP:20260419T180847
CREATED:20251119T124752Z
LAST-MODIFIED:20260114T064021Z
UID:10000596-1780342200-1780349400@www.de-kuip.nl
SUMMARY:Spectrum café
DESCRIPTION:In samenwerking met Het VoorElkaarTeam openen we het Spectrum Café in Gemeenschapshuis De Kuip! \nEen gezellige en prikkelarme ontmoetingsplek voor mensen van 18 jaar en ouder die binnen het autismespectrum vallen.Het is een plek waar je helemaal jezelf mag zijn\, waar je anderen kunt ontmoeten en samen kunt kletsen of activiteiten kunt doen. Je mag natuurlijk ook zelf iets van huis meenemen om hier te doen. \nHet eerste uur van de avond staat in het teken van een themagesprek.Daarnaast liggen er op tafel verschillende gespreksonderwerpen waar je samen over kunt praten.Vind je het spannend? Je mag natuurlijk ook een goede vriend(in)\, begeleider of familielid meenemen. \nErvaringsdeskundigen bieden een luisterend oor en hulp wanneer het even niet gaat.Spreek ze vooral aan als je vragen hebt of als je er zelf niet helemaal uitkomt. \nWees welkom in een gezellige huiskamersfeer waar alles mag en niets hoeft\, op de eerste maandag van de maand van 19:30 tot 21:30 uur! \nAanmelden\nAanmelden kan door hier te klikken.
URL:https://www.de-kuip.nl/agenda/spectrum-cafe-februari-2026/2026-06-01/
LOCATION:Foyer De Kuip\, Bloemendalsweg 1b\, Colmschate\, 7429AL
CATEGORIES:Activiteitenteam De Kuip,Agenda,Ontmoeten,Spectrum café,Voor Elkaar Teams Deventer
ATTACH;FMTTYPE=image/png:https://www.de-kuip.nl/wp-content/uploads/2025/11/Banner-Spectrumcafe-1-1.png
ORGANIZER;CN="Activiteitenteam De Kuip":MAILTO:activiteiten@de-kuip.nl
END:VEVENT
END:VCALENDAR