BEGIN:VCALENDAR
VERSION:2.0
PRODID:-//De Kuip - ECPv6.15.20//NONSGML v1.0//EN
CALSCALE:GREGORIAN
METHOD:PUBLISH
X-WR-CALNAME:De Kuip
X-ORIGINAL-URL:https://www.de-kuip.nl
X-WR-CALDESC:Evenementen voor De Kuip
REFRESH-INTERVAL;VALUE=DURATION:PT1H
X-Robots-Tag:noindex
X-PUBLISHED-TTL:PT1H
BEGIN:VTIMEZONE
TZID:Europe/Amsterdam
BEGIN:DAYLIGHT
TZOFFSETFROM:+0100
TZOFFSETTO:+0200
TZNAME:CEST
DTSTART:20260329T010000
END:DAYLIGHT
BEGIN:STANDARD
TZOFFSETFROM:+0200
TZOFFSETTO:+0100
TZNAME:CET
DTSTART:20261025T010000
END:STANDARD
BEGIN:DAYLIGHT
TZOFFSETFROM:+0100
TZOFFSETTO:+0200
TZNAME:CEST
DTSTART:20270328T010000
END:DAYLIGHT
BEGIN:STANDARD
TZOFFSETFROM:+0200
TZOFFSETTO:+0100
TZNAME:CET
DTSTART:20271031T010000
END:STANDARD
BEGIN:DAYLIGHT
TZOFFSETFROM:+0100
TZOFFSETTO:+0200
TZNAME:CEST
DTSTART:20280326T010000
END:DAYLIGHT
BEGIN:STANDARD
TZOFFSETFROM:+0200
TZOFFSETTO:+0100
TZNAME:CET
DTSTART:20281029T010000
END:STANDARD
END:VTIMEZONE
BEGIN:VEVENT
DTSTART;TZID=Europe/Amsterdam:20270628T093000
DTEND;TZID=Europe/Amsterdam:20270628T113000
DTSTAMP:20260420T131052
CREATED:20251221T134117Z
LAST-MODIFIED:20251221T135556Z
UID:10000695-1814175000-1814182200@www.de-kuip.nl
SUMMARY:Schildersclub
DESCRIPTION:Niets te doen op maandagmorgen? De teken- en schildersclub zoekt nieuwe leden die gezellig willen aansluiten. Elke maandagmorgen komen ze van 9.30 – 11.30 uur bij elkaar onder leiding van Rob van Putten. Het is een hele gezellige groep mensen van alle leeftijden. Het is niet alleen gezellig tijdens de les\, maar zeker ook tijdens de koffie. \n  \nWe raden altijd aan om de websites van de huurders te raadplegen voor de meest actuele informatie.\nHet is voor ons onmogelijk om dit dagelijks bij te houden een link naar de website is onderaan deze pagina te vinden.
URL:https://www.de-kuip.nl/agenda/schildersclub/2027-06-28/
LOCATION:Oxe Zaal De Kuip\, Bloemendalsweg 1b\, Colmschate\, 7429 AL
CATEGORIES:Agenda huurders
ATTACH;FMTTYPE=image/jpeg:https://www.de-kuip.nl/wp-content/uploads/2023/10/2023-10-02-Persbericht-Schilderclub-in-De-Kuip.jpg
END:VEVENT
END:VCALENDAR