BEGIN:VCALENDAR
VERSION:2.0
PRODID:-//De Kuip - ECPv6.15.20//NONSGML v1.0//EN
CALSCALE:GREGORIAN
METHOD:PUBLISH
X-WR-CALNAME:De Kuip
X-ORIGINAL-URL:https://www.de-kuip.nl
X-WR-CALDESC:Evenementen voor De Kuip
REFRESH-INTERVAL;VALUE=DURATION:PT1H
X-Robots-Tag:noindex
X-PUBLISHED-TTL:PT1H
BEGIN:VTIMEZONE
TZID:Europe/Amsterdam
BEGIN:DAYLIGHT
TZOFFSETFROM:+0100
TZOFFSETTO:+0200
TZNAME:CEST
DTSTART:20210328T010000
END:DAYLIGHT
BEGIN:STANDARD
TZOFFSETFROM:+0200
TZOFFSETTO:+0100
TZNAME:CET
DTSTART:20211031T010000
END:STANDARD
BEGIN:DAYLIGHT
TZOFFSETFROM:+0100
TZOFFSETTO:+0200
TZNAME:CEST
DTSTART:20220327T010000
END:DAYLIGHT
BEGIN:STANDARD
TZOFFSETFROM:+0200
TZOFFSETTO:+0100
TZNAME:CET
DTSTART:20221030T010000
END:STANDARD
BEGIN:DAYLIGHT
TZOFFSETFROM:+0100
TZOFFSETTO:+0200
TZNAME:CEST
DTSTART:20230326T010000
END:DAYLIGHT
BEGIN:STANDARD
TZOFFSETFROM:+0200
TZOFFSETTO:+0100
TZNAME:CET
DTSTART:20231029T010000
END:STANDARD
END:VTIMEZONE
BEGIN:VEVENT
DTSTART;TZID=Europe/Amsterdam:20220501T140000
DTEND;TZID=Europe/Amsterdam:20220501T180000
DTSTAMP:20260425T132115
CREATED:20220420T055321Z
LAST-MODIFIED:20220420T055321Z
UID:10000160-1651413600-1651428000@www.de-kuip.nl
SUMMARY:Leo Disco Jam Middag
DESCRIPTION:Weer een gezellige muziekmiddag in De Kuip \nMuziek en muzikanten uit de jaren 60. Soms een band\, soms jammen\, soms allebei. \nGeorganiseerd door Ada Souilljee. \nGratis toegang!
URL:https://www.de-kuip.nl/agenda/leo-disco-jam-middag-2/
LOCATION:Gemeenschapshuis De Kuip\, Bloemendalsweg 1b\, Colmschate\, Overijssel\, 7429 AL\, Nederland
CATEGORIES:Jam Middag
ATTACH;FMTTYPE=image/jpeg:https://www.de-kuip.nl/wp-content/uploads/2022/04/Leo-Disco-Jammiddag-1-mei-2022.jpg
END:VEVENT
BEGIN:VEVENT
DTSTART;TZID=Europe/Amsterdam:20220430T193000
DTEND;TZID=Europe/Amsterdam:20220430T193000
DTSTAMP:20260425T132115
CREATED:20220222T142921Z
LAST-MODIFIED:20220322T132149Z
UID:10000155-1651347000-1651347000@www.de-kuip.nl
SUMMARY:Taptoe
DESCRIPTION:In samenwerking met Welcome Again Veterans organiseert De Kuip een taptoe op het evenemententerrein naast De Kuip. \nHet terrein is om 18.30 uur open en het programma begint om 19.30 uur. Toegang is gratis. \nMeer informatie via: www.de-kuip.nl/taptoe.
URL:https://www.de-kuip.nl/agenda/taptoe/
LOCATION:Evenemententerrein De Kuip\, Bloemendalsweg 1\, Colmschate\, Overijssel\, 7429AL\, Nederland
CATEGORIES:Evenementen
ATTACH;FMTTYPE=image/png:https://www.de-kuip.nl/wp-content/uploads/2022/02/Banner-Taptoe-2022.png
END:VEVENT
BEGIN:VEVENT
DTSTART;TZID=Europe/Amsterdam:20220428T150000
DTEND;TZID=Europe/Amsterdam:20220428T163000
DTSTAMP:20260425T132115
CREATED:20220420T075533Z
LAST-MODIFIED:20220420T075610Z
UID:10000161-1651158000-1651163400@www.de-kuip.nl
SUMMARY:Themathee - Digitale wereld
DESCRIPTION:Voelt u zich soms uitgesloten omdat u geen internet heeft?\nOf daar niet aan mee kunt doen? Of vindt u het juist prettig om met andere in contact te blijven via uw telefoon of computer?\nKom dan naar de tweede themathee over ‘De digitale wereld’ en praat mee. \n \nProgramma\nSamen praten en uw mening delen over het onderwerp onder begeleiding van het Voor Elkaar team\, Erna Lammers en Britt van Rozendaal. \nMeer informatie via Britt van Rozendaal via b.vanrozendaal@voorelkaarteamsdeventer.nl of 06 – 19 76 39 95.
URL:https://www.de-kuip.nl/agenda/themathee-digitale-wereld/
LOCATION:Gemeenschapshuis De Kuip\, Bloemendalsweg 1b\, Colmschate\, Overijssel\, 7429 AL\, Nederland
ATTACH;FMTTYPE=image/jpeg:https://www.de-kuip.nl/wp-content/uploads/2022/04/Themathee-Digitale-Wereld.jpg
ORGANIZER;CN="Voor Elkaar Teams Deventer":MAILTO:b.vanrozendaal@voorelkaarteamsdeventer.nl
END:VEVENT
BEGIN:VEVENT
DTSTART;TZID=Europe/Amsterdam:20220427T100000
DTEND;TZID=Europe/Amsterdam:20220427T140000
DTSTAMP:20260425T132115
CREATED:20220218T121512Z
LAST-MODIFIED:20240507T141109Z
UID:10000148-1651053600-1651068000@www.de-kuip.nl
SUMMARY:Kleedjesmarkt Koningsdag Colmschate 2022
DESCRIPTION:We vieren de verjaardag van Koning Willem-Alexander in Colmschate. Dit doen we met: \n\nKleedjesmarkt op het evenemententerrein naast De Kuip\nLive muziek door De Deurbloazers Daeventer\nHoreca bij De Kuip voor een lekker verfrissend drankje\nInformatiestand van WijDeventer\n\nToegang en deelname is gratis. Meer informatie op onze jubileumsite. \nKlik voor meer informatie
URL:https://www.de-kuip.nl/agenda/koningsdag-colmschate-2022/
LOCATION:Gemeenschapshuis De Kuip\, Bloemendalsweg 1b\, Colmschate\, Overijssel\, 7429 AL\, Nederland
ATTACH;FMTTYPE=image/png:https://www.de-kuip.nl/wp-content/uploads/2022/01/Header-Koningsdag-kleedjesmarkt.png
END:VEVENT
BEGIN:VEVENT
DTSTART;TZID=Europe/Amsterdam:20220421T190000
DTEND;TZID=Europe/Amsterdam:20220421T210000
DTSTAMP:20260425T132115
CREATED:20220218T120345Z
LAST-MODIFIED:20220218T120639Z
UID:10000145-1650567600-1650574800@www.de-kuip.nl
SUMMARY:Soos De Kuiperij: Poppenkast met de Schalmspelers
DESCRIPTION:Deze avond in De Kuiperij\, poppenkast met de Schalmspelers \nSoos De Kuiperij\nOm de week op donderdag van 19.00 – 21.00 uur vindt de soos ‘De Kuiperij’ plaats. De soos is een ontspanningsavond voor mensen met een verstandelijke beperking\, midden niveau. \nDe deelnemers van deze avond wonen bij de stichting Zozijn\, stichting De Parabool en de JP van den Bent stichting.\nDe entree is € 2.50\, dat is inclusief een kopje koffie of thee.
URL:https://www.de-kuip.nl/agenda/soos-de-kuiperij-poppenkast-met-de-schalmspelers/
LOCATION:Gemeenschapshuis De Kuip\, Bloemendalsweg 1b\, Colmschate\, Overijssel\, 7429 AL\, Nederland
CATEGORIES:Soos De Kuiperij
ATTACH;FMTTYPE=image/jpeg:https://www.de-kuip.nl/wp-content/uploads/2015/01/ToneelgroepDeSchalmspelers.jpg
END:VEVENT
BEGIN:VEVENT
DTSTART;TZID=Europe/Amsterdam:20220409T150000
DTEND;TZID=Europe/Amsterdam:20220409T170000
DTSTAMP:20260425T132115
CREATED:20220218T121127Z
LAST-MODIFIED:20220218T121128Z
UID:10000147-1649516400-1649523600@www.de-kuip.nl
SUMMARY:Receptie 50 jaar De Kuip
DESCRIPTION:De receptie is het officiële deel van ons jubileumjaar. We heffen het glas op 50 jaar De Kuip. \nProost u met ons mee? Meldt u dan nu aan\, want gratis tickets zijn noodzakelijk. \nDit is een activiteit in het kader van 50 jaar De Kuip\, meer informatie\, bestellen gratis tickets en programma op onze jubileumsite. \nKlik voor meer informatie
URL:https://www.de-kuip.nl/agenda/receptie-50-jaar-de-kuip/
LOCATION:Gemeenschapshuis De Kuip\, Bloemendalsweg 1b\, Colmschate\, Overijssel\, 7429 AL\, Nederland
ATTACH;FMTTYPE=image/jpeg:https://www.de-kuip.nl/wp-content/uploads/2021/10/Header-receptie.jpg
END:VEVENT
BEGIN:VEVENT
DTSTART;VALUE=DATE:20220408
DTEND;VALUE=DATE:20220502
DTSTAMP:20260425T132115
CREATED:20220218T120907Z
LAST-MODIFIED:20220408T061908Z
UID:10000146-1649376000-1651449599@www.de-kuip.nl
SUMMARY:Expositie 77 jaar vrijheid
DESCRIPTION:Afgelopen jaren konden we niet in april stilstaan bij de bevrijding van Colmschate. In het jubileumjaar van De Kuip willen we dit als nog in het klein doen. Dit doen we door de expositie van 2021\, toen nog 75+1 jaar vrijheid genoemd\, opnieuw te tonen. Dus heeft u ze vorig jaar moeten missen\, dan kunt u ze nu als nog zien. \nMeer informatie via exposities op deze site. \nDit is een activiteit in het kader van 50 jaar De Kuip\, meer informatie op onze jubileumsite. \nKlik voor meer informatie
URL:https://www.de-kuip.nl/agenda/expositie-77-jaar-vrijheid/
LOCATION:Gemeenschapshuis De Kuip\, Bloemendalsweg 1b\, Colmschate\, Overijssel\, 7429 AL\, Nederland
CATEGORIES:Exposities
ATTACH;FMTTYPE=image/jpeg:https://www.de-kuip.nl/wp-content/uploads/2022/04/Expositie-77-jaar-vrijheid-4.jpg
END:VEVENT
BEGIN:VEVENT
DTSTART;TZID=Europe/Amsterdam:20220407T190000
DTEND;TZID=Europe/Amsterdam:20220407T210000
DTSTAMP:20260425T132115
CREATED:20220218T120005Z
LAST-MODIFIED:20220218T120711Z
UID:10000144-1649358000-1649365200@www.de-kuip.nl
SUMMARY:Soos De Kuiperij: Paasknutsel
DESCRIPTION:Deze avond gaan ze knutselen voor de Paasdagen. \n \nSoos De Kuiperij\nOm de week op donderdag van 19.00 – 21.00 uur vindt de soos ‘De Kuiperij’ plaats. De soos is een ontspanningsavond voor mensen met een verstandelijke beperking\, midden niveau. \nDe deelnemers van deze avond wonen bij de stichting Zozijn\, stichting De Parabool en de JP van den Bent stichting.\nDe entree is € 2.50\, dat is inclusief een kopje koffie of thee.
URL:https://www.de-kuip.nl/agenda/soos-de-kuiperij-paasknutsel/
LOCATION:Gemeenschapshuis De Kuip\, Bloemendalsweg 1b\, Colmschate\, Overijssel\, 7429 AL\, Nederland
CATEGORIES:Soos De Kuiperij
ATTACH;FMTTYPE=image/jpeg:https://www.de-kuip.nl/wp-content/uploads/2021/10/Header-Paasworkshop.jpg
END:VEVENT
BEGIN:VEVENT
DTSTART;TZID=Europe/Amsterdam:20220405T193000
DTEND;TZID=Europe/Amsterdam:20220405T213000
DTSTAMP:20260425T132115
CREATED:20220217T210837Z
LAST-MODIFIED:20220217T210908Z
UID:10000143-1649187000-1649194200@www.de-kuip.nl
SUMMARY:Workshop met hout
DESCRIPTION:Een workshop met hout door Alida Batterink. \n \nKosten zijn € 22\,50 per persoon en inclusief koffie/thee met wat lekkers en materiaal. Aanmelden kan via onze jubileumsite. \nDit is een activiteit in het kader van 50 jaar De Kuip\, meer informatie op onze jubileumsite. \nKlik voor aanmelden en meer informatie
URL:https://www.de-kuip.nl/agenda/workshop-met-hout/
LOCATION:Gemeenschapshuis De Kuip\, Bloemendalsweg 1b\, Colmschate\, Overijssel\, 7429 AL\, Nederland
CATEGORIES:Workshops
ATTACH;FMTTYPE=image/jpeg:https://www.de-kuip.nl/wp-content/uploads/2021/10/Header-Workshops.jpg
END:VEVENT
BEGIN:VEVENT
DTSTART;TZID=Europe/Amsterdam:20220403T140000
DTEND;TZID=Europe/Amsterdam:20220403T180000
DTSTAMP:20260425T132115
CREATED:20220315T144643Z
LAST-MODIFIED:20220315T144643Z
UID:10000159-1648994400-1649008800@www.de-kuip.nl
SUMMARY:Leo Disco Jam Middag
DESCRIPTION:Weer een gezellige muziekmiddag in De Kuip \nMuziek en muzikanten uit de jaren 60. Soms een band\, soms jammen\, soms allebei. \nGeorganiseerd door Ada Souilljee. \nGratis toegang!
URL:https://www.de-kuip.nl/agenda/leo-disco-jam-middag/
LOCATION:Gemeenschapshuis De Kuip\, Bloemendalsweg 1b\, Colmschate\, Overijssel\, 7429 AL\, Nederland
CATEGORIES:Jam Middag
ATTACH;FMTTYPE=image/jpeg:https://www.de-kuip.nl/wp-content/uploads/2022/03/Leo-Disco-Jam-Middag-3-april-2022.jpg
END:VEVENT
BEGIN:VEVENT
DTSTART;TZID=Europe/Amsterdam:20220401T200000
DTEND;TZID=Europe/Amsterdam:20220401T220000
DTSTAMP:20260425T132115
CREATED:20220217T184952Z
LAST-MODIFIED:20220304T174128Z
UID:10000139-1648843200-1648850400@www.de-kuip.nl
SUMMARY:Bierproeverij door Alderbastend Bieren
DESCRIPTION:Een heerlijke bierproeverij door Alderbastend Bieren uit Colmschate. Proef op deze avond alle 5 verschillende Alderbastend bieren. \nAlderbastend Bieren\nAlderbastend Bieren is een opkomende familiebrouwerij uit Colmschate met roots in de Achterhoek. Met herkenbare karakters en toegankelijke speciaalbieren verkleinen ze het gat tussen de échte speciaalbierliefhebber en de traditionele pilsdrinker. \nMaak kennis met de bieren Flinke Freek\, Bennie Bang\, Brute Bertha\, Wijze Willie en Jolige Jopie! \nDit is een activiteit in het kader van 50 jaar De Kuip\, meer informatie op onze jubileumsite. \n  \nKlik voor meer informatie en aanmelden.
URL:https://www.de-kuip.nl/agenda/bierproeverij-door-alderbastend-bieren-2/
LOCATION:Gemeenschapshuis De Kuip\, Bloemendalsweg 1b\, Colmschate\, Overijssel\, 7429 AL\, Nederland
CATEGORIES:Proeverij
ATTACH;FMTTYPE=image/png:https://www.de-kuip.nl/wp-content/uploads/2022/01/Header-Alderbastend-Bieren.png
END:VEVENT
BEGIN:VEVENT
DTSTART;TZID=Europe/Amsterdam:20220324T190000
DTEND;TZID=Europe/Amsterdam:20220324T210000
DTSTAMP:20260425T132115
CREATED:20220217T210648Z
LAST-MODIFIED:20220218T120706Z
UID:10000142-1648148400-1648155600@www.de-kuip.nl
SUMMARY:Soos De Kuiperij: Karaoke
DESCRIPTION:Deze avond hebben ze een karaoke avond in De Kuiperij. \n \nSoos De Kuiperij\nOm de week op donderdag van 19.00 – 21.00 uur vindt de soos ‘De Kuiperij’ plaats. De soos is een ontspanningsavond voor mensen met een verstandelijke beperking\, midden niveau. \nDe deelnemers van deze avond wonen bij de stichting Zozijn\, stichting De Parabool en de JP van den Bent stichting.\nDe entree is € 2.50\, dat is inclusief een kopje koffie of thee.
URL:https://www.de-kuip.nl/agenda/soos-de-kuiperij-karaoke/
LOCATION:Gemeenschapshuis De Kuip\, Bloemendalsweg 1b\, Colmschate\, Overijssel\, 7429 AL\, Nederland
CATEGORIES:Soos De Kuiperij
ATTACH;FMTTYPE=image/jpeg:https://www.de-kuip.nl/wp-content/uploads/2019/12/Karaoke-in-De-Kuiperij.jpg
END:VEVENT
BEGIN:VEVENT
DTSTART;TZID=Europe/Amsterdam:20220318T200000
DTEND;TZID=Europe/Amsterdam:20220318T220000
DTSTAMP:20260425T132115
CREATED:20220217T210322Z
LAST-MODIFIED:20220217T210322Z
UID:10000141-1647633600-1647640800@www.de-kuip.nl
SUMMARY:Ladies Night
DESCRIPTION:Bijpraten met vriendinnen\, je zus of je moeder? Gewoon even een lekker avondje weg? Dat kan natuurlijk tijdens de Ladies Night in De Kuip en als je na het shoppen nog lekker wil blijven zitten\, voor een hapje en een drankje\, dat kan allemaal in De Kuip. \nDit is een activiteit in het kader van 50 jaar De Kuip\, meer informatie op onze jubileumsite. \nKlik voor meer informatie
URL:https://www.de-kuip.nl/agenda/ladies-night/
LOCATION:Gemeenschapshuis De Kuip\, Bloemendalsweg 1b\, Colmschate\, Overijssel\, 7429 AL\, Nederland
ATTACH;FMTTYPE=image/jpeg:https://www.de-kuip.nl/wp-content/uploads/2021/10/Header-Ladies-Night-2.jpg
END:VEVENT
BEGIN:VEVENT
DTSTART;TZID=Europe/Amsterdam:20220317T150000
DTEND;TZID=Europe/Amsterdam:20220317T163000
DTSTAMP:20260425T132115
CREATED:20220314T183835Z
LAST-MODIFIED:20220314T184131Z
UID:10000158-1647529200-1647534600@www.de-kuip.nl
SUMMARY:Plezier in je leven - Themathee
DESCRIPTION:Hebt u ook weleens geen zin om uit bed te komen?\nOf juist genoten van het eerste kopje koffie?\nHerkent u dit? Kom dan naar de eerste Themathee over ‘Plezier in je leven?’ en praat mee. \n \nProgramma\nWelkomswoord door Erna\nLezing ‘Plezier in je leven?’ door Godelieve\nPauze\nUitwisseling\nAfsluiting \nHet is fijn als u zich van te voren aanmeldt via b.vanrozendaal@voorelkaarteamsdeventer.nl of 06 – 19 76 39 95\, maar dit is niet verplicht. \n 
URL:https://www.de-kuip.nl/agenda/plezier-in-je-leven-themathee/
LOCATION:Gemeenschapshuis De Kuip\, Bloemendalsweg 1b\, Colmschate\, Overijssel\, 7429 AL\, Nederland
ATTACH;FMTTYPE=image/png:https://www.de-kuip.nl/wp-content/uploads/2022/03/Plezier-in-je-leven-Themathee.png
ORGANIZER;CN="Voor Elkaar Teams Deventer":MAILTO:b.vanrozendaal@voorelkaarteamsdeventer.nl
END:VEVENT
BEGIN:VEVENT
DTSTART;TZID=Europe/Amsterdam:20220316T143000
DTEND;TZID=Europe/Amsterdam:20220316T163000
DTSTAMP:20260425T132115
CREATED:20220226T083227Z
LAST-MODIFIED:20220226T083500Z
UID:10000157-1647441000-1647448200@www.de-kuip.nl
SUMMARY:Iedereen Actief
DESCRIPTION:Het sport-\, beweeg- en cultuurplein komt naar je toe!\nOp het Sport- en beweegplein komt alles samen. Ontmoeten\, sporten\, bewegen\, bewustwording\, informatie\, kennismaken en uitproberen. \nOp dit sportieve plein kun je activiteiten en sporten uitproberen\, maar ook kennis maken met de wereld van mensen met en zonder een beperking. Ook voor informatie kun je er terecht. \nKom voor een leuke middag naar het plein\, ontdek en doe mee!
URL:https://www.de-kuip.nl/agenda/iedereen-actief/
LOCATION:Gemeenschapshuis De Kuip\, Bloemendalsweg 1b\, Colmschate\, Overijssel\, 7429 AL\, Nederland
ATTACH;FMTTYPE=image/jpeg:https://www.de-kuip.nl/wp-content/uploads/2022/02/IedereenActief.jpg
END:VEVENT
BEGIN:VEVENT
DTSTART;TZID=Europe/Amsterdam:20220316T073000
DTEND;TZID=Europe/Amsterdam:20220316T210000
DTSTAMP:20260425T132115
CREATED:20220225T111514Z
LAST-MODIFIED:20220225T111557Z
UID:10000156-1647415800-1647464400@www.de-kuip.nl
SUMMARY:Stemmen verkiezing voor de gemeenteraad van Deventer
DESCRIPTION:Op 14\, 15 en 16 maart 2022 is de verkiezing voor de gemeenteraad van Deventer. Op woensdag 16 maart kunt u ook bij ons in De Kuip uw stem uitbrengen.
URL:https://www.de-kuip.nl/agenda/stemmen-verkiezing-voor-de-gemeenteraad-van-deventer/
LOCATION:Gemeenschapshuis De Kuip\, Bloemendalsweg 1b\, Colmschate\, Overijssel\, 7429 AL\, Nederland
ATTACH;FMTTYPE=image/jpeg:https://www.de-kuip.nl/wp-content/uploads/2022/02/Verkiezingen-Stem-in-De-Kuip.jpg
END:VEVENT
BEGIN:VEVENT
DTSTART;TZID=Europe/Amsterdam:20220311T100000
DTEND;TZID=Europe/Amsterdam:20220311T170000
DTSTAMP:20260425T132115
CREATED:20220217T210124Z
LAST-MODIFIED:20220217T210125Z
UID:10000140-1646992800-1647018000@www.de-kuip.nl
SUMMARY:NLdoet: Een groene tuin voor de 50 jarige Kuip
DESCRIPTION:We zijn druk bezig met groot onderhoud en verduurzaming van het gebouw om De Kuip aan te passen aan de huidige eisen. \nWat zou het leuk zijn als het buitenterrein zou worden opgevrolijkt met een mooie tuin. \nHiervoor zoeken wij vrijwilligers die willen helpen met het aanplanten van struiken en bloemen aan de voorkant van ons opgeknapte gebouw. We willen de tuin naast het pad aankleden met sterkte planten die goed aarden in de schaduw. \nDit is een activiteit in het kader van 50 jaar De Kuip\, meer informatie en aanmelden op onze jubileumsite. \nKlik voor meer informatie
URL:https://www.de-kuip.nl/agenda/nldoet-een-groene-tuin-voor-de-50-jarige-kuip/
LOCATION:Gemeenschapshuis De Kuip\, Bloemendalsweg 1b\, Colmschate\, Overijssel\, 7429 AL\, Nederland
ATTACH;FMTTYPE=image/jpeg:https://www.de-kuip.nl/wp-content/uploads/2021/12/Header-NLdoet.jpg
END:VEVENT
BEGIN:VEVENT
DTSTART;TZID=Europe/Amsterdam:20220310T190000
DTEND;TZID=Europe/Amsterdam:20220310T210000
DTSTAMP:20260425T132115
CREATED:20220217T184610Z
LAST-MODIFIED:20220218T120707Z
UID:10000138-1646938800-1646946000@www.de-kuip.nl
SUMMARY:Soos De Kuiperij: Countrydansers
DESCRIPTION:Deze avond komen de countrydansers op bezoek. \nSoos De Kuiperij\nOm de week op donderdag van 19.00 – 21.00 uur vindt de soos ‘De Kuiperij’ plaats. De soos is een ontspanningsavond voor mensen met een verstandelijke beperking\, midden niveau. \nDe deelnemers van deze avond wonen bij de stichting Zozijn\, stichting De Parabool en de JP van den Bent stichting.\nDe entree is € 2.50\, dat is inclusief een kopje koffie of thee.
URL:https://www.de-kuip.nl/agenda/soos-de-kuiperij-countrydansers/
LOCATION:Gemeenschapshuis De Kuip\, Bloemendalsweg 1b\, Colmschate\, Overijssel\, 7429 AL\, Nederland
CATEGORIES:Soos De Kuiperij
ATTACH;FMTTYPE=image/jpeg:https://www.de-kuip.nl/wp-content/uploads/2021/07/Country-laarzen-line-dance.jpg
END:VEVENT
BEGIN:VEVENT
DTSTART;TZID=Europe/Amsterdam:20220306T140000
DTEND;TZID=Europe/Amsterdam:20220306T180000
DTSTAMP:20260425T132115
CREATED:20220217T184256Z
LAST-MODIFIED:20220217T185251Z
UID:10000137-1646575200-1646589600@www.de-kuip.nl
SUMMARY:Jamsessie op zondagmiddag
DESCRIPTION:Muziek en muzikanten uit de jaren 60. Soms een band\, soms jammen\, soms allebei. \nGeorganiseerd door Ada Souilljee. \nGratis toegang!\nCoronatoegangsbewijzen en registratie zijn niet meer nodig.
URL:https://www.de-kuip.nl/agenda/jamsessie-op-zondagmiddag/
LOCATION:Gemeenschapshuis De Kuip\, Bloemendalsweg 1b\, Colmschate\, Overijssel\, 7429 AL\, Nederland
CATEGORIES:Jam Middag
ATTACH;FMTTYPE=image/png:https://www.de-kuip.nl/wp-content/uploads/2022/02/Jamsessie-op-zondagmiddag-6-maart-2022.png
END:VEVENT
BEGIN:VEVENT
DTSTART;TZID=Europe/Amsterdam:20220304T200000
DTEND;TZID=Europe/Amsterdam:20220304T220000
DTSTAMP:20260425T132115
CREATED:20220217T175529Z
LAST-MODIFIED:20220304T174211Z
UID:10000135-1646424000-1646431200@www.de-kuip.nl
SUMMARY:Bierproeverij door Alderbastend Bieren
DESCRIPTION:Een heerlijke bierproeverij door Alderbastend Bieren uit Colmschate. Proef op deze avond alle 5 verschillende Alderbastend bieren. \nAlderbastend Bieren\nAlderbastend Bieren is een opkomende familiebrouwerij uit Colmschate met roots in de Achterhoek. Met herkenbare karakters en toegankelijke speciaalbieren verkleinen ze het gat tussen de échte speciaalbierliefhebber en de traditionele pilsdrinker. \nMaak kennis met de bieren Flinke Freek\, Bennie Bang\, Brute Bertha\, Wijze Willie en Jolige Jopie! \nDit is een activiteit in het kader van 50 jaar De Kuip\, meer informatie op onze jubileumsite. \nKlik voor meer informatie en aanmelden \n 
URL:https://www.de-kuip.nl/agenda/bierproeverij-door-alderbastend-bieren/
LOCATION:Gemeenschapshuis De Kuip\, Bloemendalsweg 1b\, Colmschate\, Overijssel\, 7429 AL\, Nederland
CATEGORIES:Proeverij
ATTACH;FMTTYPE=image/png:https://www.de-kuip.nl/wp-content/uploads/2022/01/Header-Alderbastend-Bieren.png
END:VEVENT
BEGIN:VEVENT
DTSTART;TZID=Europe/Amsterdam:20220224T190000
DTEND;TZID=Europe/Amsterdam:20220224T213000
DTSTAMP:20260425T132115
CREATED:20220217T181159Z
LAST-MODIFIED:20220218T120709Z
UID:10000136-1645729200-1645738200@www.de-kuip.nl
SUMMARY:Soos De Kuiperij: Carnaval
DESCRIPTION:Deze avond vieren de leden van De Kuiperij carnaval. \nSoos De Kuiperij\nOm de week op donderdag van 19.00 – 21.00 uur vindt de soos ‘De Kuiperij’ plaats. De soos is een ontspanningsavond voor mensen met een verstandelijke beperking\, midden niveau. \nDe deelnemers van deze avond wonen bij de stichting Zozijn\, stichting De Parabool en de JP van den Bent stichting.\nDe entree is € 2.50\, dat is inclusief een kopje koffie of thee.
URL:https://www.de-kuip.nl/agenda/soos-de-kuiperij-carnaval/
LOCATION:Gemeenschapshuis De Kuip\, Bloemendalsweg 1b\, Colmschate\, Overijssel\, 7429 AL\, Nederland
CATEGORIES:Soos De Kuiperij
ATTACH;FMTTYPE=image/jpeg:https://www.de-kuip.nl/wp-content/uploads/2014/02/Carnaval-Soos-2.jpg
END:VEVENT
END:VCALENDAR