BEGIN:VCALENDAR
VERSION:2.0
PRODID:-//De Kuip - ECPv6.15.20//NONSGML v1.0//EN
CALSCALE:GREGORIAN
METHOD:PUBLISH
X-WR-CALNAME:De Kuip
X-ORIGINAL-URL:https://www.de-kuip.nl
X-WR-CALDESC:Evenementen voor De Kuip
REFRESH-INTERVAL;VALUE=DURATION:PT1H
X-Robots-Tag:noindex
X-PUBLISHED-TTL:PT1H
BEGIN:VTIMEZONE
TZID:Europe/Amsterdam
BEGIN:DAYLIGHT
TZOFFSETFROM:+0100
TZOFFSETTO:+0200
TZNAME:CEST
DTSTART:20240331T010000
END:DAYLIGHT
BEGIN:STANDARD
TZOFFSETFROM:+0200
TZOFFSETTO:+0100
TZNAME:CET
DTSTART:20241027T010000
END:STANDARD
BEGIN:DAYLIGHT
TZOFFSETFROM:+0100
TZOFFSETTO:+0200
TZNAME:CEST
DTSTART:20250330T010000
END:DAYLIGHT
BEGIN:STANDARD
TZOFFSETFROM:+0200
TZOFFSETTO:+0100
TZNAME:CET
DTSTART:20251026T010000
END:STANDARD
BEGIN:DAYLIGHT
TZOFFSETFROM:+0100
TZOFFSETTO:+0200
TZNAME:CEST
DTSTART:20260329T010000
END:DAYLIGHT
BEGIN:STANDARD
TZOFFSETFROM:+0200
TZOFFSETTO:+0100
TZNAME:CET
DTSTART:20261025T010000
END:STANDARD
BEGIN:DAYLIGHT
TZOFFSETFROM:+0100
TZOFFSETTO:+0200
TZNAME:CEST
DTSTART:20270328T010000
END:DAYLIGHT
BEGIN:STANDARD
TZOFFSETFROM:+0200
TZOFFSETTO:+0100
TZNAME:CET
DTSTART:20271031T010000
END:STANDARD
END:VTIMEZONE
BEGIN:VEVENT
DTSTART;TZID=Europe/Amsterdam:20251202T140000
DTEND;TZID=Europe/Amsterdam:20251202T160000
DTSTAMP:20260421T160516
CREATED:20250813T101931Z
LAST-MODIFIED:20250827T124354Z
UID:10000499-1764684000-1764691200@www.de-kuip.nl
SUMMARY:Inloopmiddag met Repaircafé & Gereedschapsruilbieb
DESCRIPTION:Samen met Bij Tjoonk organiseren wij iedere dinsdagmiddag in De Kuip twee mooie initiatieven: het Repair Café en de Gereedschapsruilbieb. Beide activiteiten vinden plaats tijdens de wekelijkse inloopmiddag tussen 14.00 en 16.00 uur. \n\n🔧 Repair Café\nHeeft u een apparaat dat niet meer werkt en lukt het maar niet om het weer aan de praat te krijgen? Geen zorgen! Tijdens het Repair Café staan de medewerkers van de klussendienst van Bij Tjoonk voor u klaar om samen te kijken of uw apparaat gerepareerd kan worden. \nOok als u tegen klusjes in of rondom huis opziet\, kunt u langskomen voor advies en ondersteuning. \n👉 Meedoen als vrijwilliger?Bent u handig\, technisch of creatief en vindt u het leuk om anderen te helpen? Dan bent u van harte welkom om het Repair Café te versterken. \n\n🛠️ Gereedschapsruilbieb\nIedere dinsdagmiddag vindt u op het parkeerterrein van De Kuip de Gereedschapsruilbieb van Bij Tjoonk.Waarom zelf duur gereedschap aanschaffen voor een klus die u misschien maar één keer doet? Vanaf september 2025 kunt u eenvoudig gereedschap lenen\, ruilen of delen met buurtgenoten. Zo besparen we samen kosten én dragen we bij aan duurzaamheid. 🌱 \nDe medewerkers van Bij Tjoonk vertellen u graag meer over hoe het werkt. Kom gerust langs en ontdek de voordelen van de gereedschapsruilbieb. \n\n☕ Gezelligheid in De Kuip tijdens de inloopmiddag\nNatuurlijk bent u tijdens de inloopmiddag ook welkom voor een kop koffie of thee\, een drankje\, een spelletje\, biljarten\, darten of kaarten\, of gewoon een gezellig praatje. De sfeer is gezellig en ontspannen en iedereen kan aanschuiven.
URL:https://www.de-kuip.nl/agenda/inloopmiddag-met-repaircafe-gereedschapsruilbieb-11/
LOCATION:Gemeenschapshuis De Kuip\, Bloemendalsweg 1b\, Colmschate\, Overijssel\, 7429 AL\, Nederland
CATEGORIES:Activiteitenteam De Kuip,Bij Tjoonk,Ontmoeten,Repaircafé
ATTACH;FMTTYPE=image/png:https://www.de-kuip.nl/wp-content/uploads/2025/08/Banner-inloopmiddag-repair-cafe-en-gereedschapsruilbieb-2025.png
ORGANIZER;CN="Activiteitenteam De Kuip":MAILTO:activiteiten@de-kuip.nl
END:VEVENT
BEGIN:VEVENT
DTSTART;TZID=Europe/Amsterdam:20251207T140000
DTEND;TZID=Europe/Amsterdam:20251207T180000
DTSTAMP:20260421T160516
CREATED:20250604T080306Z
LAST-MODIFIED:20250604T080306Z
UID:10000475-1765116000-1765130400@www.de-kuip.nl
SUMMARY:Leo Disco Jam Middag december 2025
DESCRIPTION:Geniet van een gezellige muziekmiddag in De Kuip!\nHerbeleef de muziek uit de jaren ’60 met getalenteerde muzikanten. Verwacht een mix van optredens: soms een energieke band\, soms spontane jamsessies – en soms beide! Kom langs en laat je meevoeren door de tijdloze klanken van een onvergetelijk muziekdecennium. \nGeorganiseerd door Ada Souilljee. Volg ook hun Facebookpagina Leo Disco Jam om op de hoogte te blijven. \nEntree is € 3\,00 p.p.
URL:https://www.de-kuip.nl/agenda/leo-disco-jam-middag-december-2025/
LOCATION:Gemeenschapshuis De Kuip\, Bloemendalsweg 1b\, Colmschate\, Overijssel\, 7429 AL\, Nederland
CATEGORIES:Dansen,Evenementen,Jam Middag,Live muziek,Ontmoeten
ATTACH;FMTTYPE=image/png:https://www.de-kuip.nl/wp-content/uploads/2024/12/Banner-Leo-Disco-Jam-2025.png
END:VEVENT
BEGIN:VEVENT
DTSTART;TZID=Europe/Amsterdam:20251209T140000
DTEND;TZID=Europe/Amsterdam:20251209T160000
DTSTAMP:20260421T160516
CREATED:20250813T102027Z
LAST-MODIFIED:20250827T124522Z
UID:10000500-1765288800-1765296000@www.de-kuip.nl
SUMMARY:Inloopmiddag met Repaircafé & Gereedschapsruilbieb
DESCRIPTION:Samen met Bij Tjoonk organiseren wij iedere dinsdagmiddag in De Kuip twee mooie initiatieven: het Repair Café en de Gereedschapsruilbieb. Beide activiteiten vinden plaats tijdens de wekelijkse inloopmiddag tussen 14.00 en 16.00 uur. \n\n🔧 Repair Café\nHeeft u een apparaat dat niet meer werkt en lukt het maar niet om het weer aan de praat te krijgen? Geen zorgen! Tijdens het Repair Café staan de medewerkers van de klussendienst van Bij Tjoonk voor u klaar om samen te kijken of uw apparaat gerepareerd kan worden. \nOok als u tegen klusjes in of rondom huis opziet\, kunt u langskomen voor advies en ondersteuning. \n👉 Meedoen als vrijwilliger?Bent u handig\, technisch of creatief en vindt u het leuk om anderen te helpen? Dan bent u van harte welkom om het Repair Café te versterken. \n\n🛠️ Gereedschapsruilbieb\nIedere dinsdagmiddag vindt u op het parkeerterrein van De Kuip de Gereedschapsruilbieb van Bij Tjoonk.Waarom zelf duur gereedschap aanschaffen voor een klus die u misschien maar één keer doet? Vanaf september 2025 kunt u eenvoudig gereedschap lenen\, ruilen of delen met buurtgenoten. Zo besparen we samen kosten én dragen we bij aan duurzaamheid. 🌱 \nDe medewerkers van Bij Tjoonk vertellen u graag meer over hoe het werkt. Kom gerust langs en ontdek de voordelen van de gereedschapsruilbieb. \n\n☕ Gezelligheid in De Kuip tijdens de inloopmiddag\nNatuurlijk bent u tijdens de inloopmiddag ook welkom voor een kop koffie of thee\, een drankje\, een spelletje\, biljarten\, darten of kaarten\, of gewoon een gezellig praatje. De sfeer is gezellig en ontspannen en iedereen kan aanschuiven.
URL:https://www.de-kuip.nl/agenda/inloopmiddag-met-repaircafe-gereedschapsruilbieb-14/
LOCATION:Gemeenschapshuis De Kuip\, Bloemendalsweg 1b\, Colmschate\, Overijssel\, 7429 AL\, Nederland
CATEGORIES:Activiteitenteam De Kuip,Bij Tjoonk,Inloopmiddag,Ontmoeten,Repaircafé
ATTACH;FMTTYPE=image/png:https://www.de-kuip.nl/wp-content/uploads/2025/08/Banner-inloopmiddag-repair-cafe-en-gereedschapsruilbieb-2025.png
ORGANIZER;CN="Activiteitenteam De Kuip":MAILTO:activiteiten@de-kuip.nl
END:VEVENT
BEGIN:VEVENT
DTSTART;TZID=Europe/Amsterdam:20251211T190000
DTEND;TZID=Europe/Amsterdam:20251211T210000
DTSTAMP:20260421T160516
CREATED:20250604T122235Z
LAST-MODIFIED:20250604T122235Z
UID:10000483-1765479600-1765486800@www.de-kuip.nl
SUMMARY:Soos De Kuiperij: Zanger Michel
DESCRIPTION:Vanavond weer een spetterend optreden van zanger Michel. \n𝗦𝗼𝗼𝘀 𝗗𝗲 𝗞𝘂𝗶𝗽𝗲𝗿𝗶𝗷 \n\nOm de week op donderdag van 19.00 – 21.00 uur vindt de soos ‘De Kuiperij’ plaats. De soos is een ontspanningsavond voor mensen met een verstandelijke beperking\, midden niveau.\n\n\n \n\n\nDe deelnemers van deze avond wonen bij de stichting Zozijn\, stichting De Parabool en de JP van den Bent stichting.\n\n\nMeer informatie..
URL:https://www.de-kuip.nl/agenda/soos-de-kuiperij-11122025/
LOCATION:Gemeenschapshuis De Kuip\, Bloemendalsweg 1b\, Colmschate\, Overijssel\, 7429 AL\, Nederland
CATEGORIES:Soos De Kuiperij
ATTACH;FMTTYPE=image/png:https://www.de-kuip.nl/wp-content/uploads/2025/06/De-Kuiperij-zanger-Michel-11-december-2025.png
ORGANIZER;CN="Vrijwilligers soos De Kuiperij":MAILTO:info@de-kuip.nl
END:VEVENT
BEGIN:VEVENT
DTSTART;TZID=Europe/Amsterdam:20251216T140000
DTEND;TZID=Europe/Amsterdam:20251216T160000
DTSTAMP:20260421T160516
CREATED:20250813T102122Z
LAST-MODIFIED:20251220T094643Z
UID:10000501-1765893600-1765900800@www.de-kuip.nl
SUMMARY:Inloopmiddag met Repaircafé & Gereedschapsruilbieb
DESCRIPTION:Samen met Bij Tjoonk organiseren wij iedere dinsdagmiddag in De Kuip twee mooie initiatieven: het Repair Café en de Gereedschapsruilbieb. Beide activiteiten vinden plaats tijdens de wekelijkse inloopmiddag tussen 14.00 en 16.00 uur. \n\n🔧 Repair Café\nHeeft u een apparaat dat niet meer werkt en lukt het maar niet om het weer aan de praat te krijgen? Geen zorgen! Tijdens het Repair Café staan de medewerkers van de klussendienst van Bij Tjoonk voor u klaar om samen te kijken of uw apparaat gerepareerd kan worden. \nOok als u tegen klusjes in of rondom huis opziet\, kunt u langskomen voor advies en ondersteuning. \n👉 Meedoen als vrijwilliger?Bent u handig\, technisch of creatief en vindt u het leuk om anderen te helpen? Dan bent u van harte welkom om het Repair Café te versterken. \n\n🛠️ Gereedschapsruilbieb\nIedere dinsdagmiddag vindt u op het parkeerterrein van De Kuip de Gereedschapsruilbieb van Bij Tjoonk.Waarom zelf duur gereedschap aanschaffen voor een klus die u misschien maar één keer doet? Vanaf september 2025 kunt u eenvoudig gereedschap lenen\, ruilen of delen met buurtgenoten. Zo besparen we samen kosten én dragen we bij aan duurzaamheid. 🌱 \nDe medewerkers van Bij Tjoonk vertellen u graag meer over hoe het werkt. Kom gerust langs en ontdek de voordelen van de gereedschapsruilbieb. \n\n☕ Gezelligheid in De Kuip tijdens de inloopmiddag\nNatuurlijk bent u tijdens de inloopmiddag ook welkom voor een kop koffie of thee\, een drankje\, een spelletje\, biljarten\, darten of kaarten\, of gewoon een gezellig praatje. De sfeer is gezellig en ontspannen en iedereen kan aanschuiven.
URL:https://www.de-kuip.nl/agenda/inloopmiddag-met-repaircafe-gereedschapsruilbieb-13/
LOCATION:Gemeenschapshuis De Kuip\, Bloemendalsweg 1b\, Colmschate\, Overijssel\, 7429 AL\, Nederland
CATEGORIES:Activiteitenteam De Kuip,Agenda,Bij Tjoonk,Inloopmiddag,Ontmoeten,Repaircafé
ATTACH;FMTTYPE=image/png:https://www.de-kuip.nl/wp-content/uploads/2025/08/Banner-inloopmiddag-repair-cafe-en-gereedschapsruilbieb-2025.png
ORGANIZER;CN="Activiteitenteam De Kuip":MAILTO:activiteiten@de-kuip.nl
END:VEVENT
BEGIN:VEVENT
DTSTART;TZID=Europe/Amsterdam:20251221T140000
DTEND;TZID=Europe/Amsterdam:20251221T170000
DTSTAMP:20260421T160516
CREATED:20251112T101057Z
LAST-MODIFIED:20251221T141849Z
UID:10000545-1766325600-1766336400@www.de-kuip.nl
SUMMARY:Optreden van de band BOOTZ
DESCRIPTION:Beleef een middag vol authentieke country met BOOTZ!\nKom genieten van een middag echte countrymuziek met de Twentse band BOOTZ! Deze groep van zes enthousiaste muzikanten heeft een rijke muzikale achtergrond in diverse regionale bands. Hun passie spat van het podium! \nBOOTZ brengt niet alleen heerlijke Country Classics\, maar ook meezingbare hits uit de jaren ’60 en ’70 – lekker in het gehoor liggend en perfect om op te dansen . \nVerwacht nummers van The Mavericks\, Brooks & Dunn\, Vince Gill\, George Strait\, Joe Diffie en vele andere country-iconen.Daarnaast hoor je ook klassiekers van The Eagles\, Elvis Presley\, The Doobie Brothers\, Lionel Richie\, Bellamy Brothers\, Creedence Clearwater Revival en meer. \nKortom: een gevarieerd repertoire waarbij je kunt luisteren\, meezingen én dansen. Voor velen een feest der herkenning – voor iedereen een middag vol muziekplezier! \n📅 Datum: zondag 21 december 2025🕒 Tijd: van 14:00 tot 17:00 uur🎟️ Toegang: slechts €10\,- per persoon aan de deur (geen voorverkoop) \nKom erbij\, zing mee en laat je meeslepen door de onweerstaanbare klanken van BOOTZ!
URL:https://www.de-kuip.nl/agenda/optreden-van-de-band-bootz/
LOCATION:Foyer De Kuip\, Bloemendalsweg 1b\, Colmschate\, 7429AL
CATEGORIES:Activiteitenteam De Kuip,Agenda,Dansen,Live muziek,Ontmoeten
ATTACH;FMTTYPE=image/png:https://www.de-kuip.nl/wp-content/uploads/2025/11/Banner-optreden-Bootz-2025.png
ORGANIZER;CN="Activiteitenteam De Kuip":MAILTO:activiteiten@de-kuip.nl
END:VEVENT
BEGIN:VEVENT
DTSTART;VALUE=DATE:20251223
DTEND;VALUE=DATE:20260104
DTSTAMP:20260421T160516
CREATED:20251223T185111Z
LAST-MODIFIED:20251223T185210Z
UID:10000956-1766448000-1767484799@www.de-kuip.nl
SUMMARY:Kerstsluiting 2025
DESCRIPTION:🎄✨ Het team van De Kuip wenst u fijne feestdagen en een gelukkig en gezond 2026! \n✨ Al onze mooie culturele\, creatieve en sportieve activiteiten zijn mogelijk gemaakt door ons team\, het bestuur en onze trouwe vrijwilligers: bedankt! \n✨ We kijken uit naar nieuwe initiatieven en leuke activiteiten in het komende jaar en bedanken iedereen voor de geweldige optredens\, de muzikale en sportieve momenten en de prachtige exposities. \n🎄 Vanaf 23 december t/m zaterdag 3 januari genieten wij van een welverdiende vakantie. Op zondag 4 januari starten we het jaar met een gezellige muziekmiddag tijdens de Leo Disco Jam. 🎤 \nDe Kuip activiteiten 2026 \n👉 Benieuwd naar onze activiteiten in 2026?\nKijk op onze website: www.de-kuip.nl/agenda.
URL:https://www.de-kuip.nl/agenda/kerstsluiting-2025/
LOCATION:Gemeenschapshuis De Kuip\, Bloemendalsweg 1b\, Colmschate\, Overijssel\, 7429 AL\, Nederland
CATEGORIES:Activiteitenteam De Kuip,Agenda
ATTACH;FMTTYPE=image/png:https://www.de-kuip.nl/wp-content/uploads/2025/12/Banner-kerst-2026.png
END:VEVENT
END:VCALENDAR