BEGIN:VCALENDAR
VERSION:2.0
PRODID:-//De Kuip - ECPv6.15.20//NONSGML v1.0//EN
CALSCALE:GREGORIAN
METHOD:PUBLISH
X-WR-CALNAME:De Kuip
X-ORIGINAL-URL:https://www.de-kuip.nl
X-WR-CALDESC:Evenementen voor De Kuip
REFRESH-INTERVAL;VALUE=DURATION:PT1H
X-Robots-Tag:noindex
X-PUBLISHED-TTL:PT1H
BEGIN:VTIMEZONE
TZID:Europe/Amsterdam
BEGIN:DAYLIGHT
TZOFFSETFROM:+0100
TZOFFSETTO:+0200
TZNAME:CEST
DTSTART:20250330T010000
END:DAYLIGHT
BEGIN:STANDARD
TZOFFSETFROM:+0200
TZOFFSETTO:+0100
TZNAME:CET
DTSTART:20251026T010000
END:STANDARD
BEGIN:DAYLIGHT
TZOFFSETFROM:+0100
TZOFFSETTO:+0200
TZNAME:CEST
DTSTART:20260329T010000
END:DAYLIGHT
BEGIN:STANDARD
TZOFFSETFROM:+0200
TZOFFSETTO:+0100
TZNAME:CET
DTSTART:20261025T010000
END:STANDARD
BEGIN:DAYLIGHT
TZOFFSETFROM:+0100
TZOFFSETTO:+0200
TZNAME:CEST
DTSTART:20270328T010000
END:DAYLIGHT
BEGIN:STANDARD
TZOFFSETFROM:+0200
TZOFFSETTO:+0100
TZNAME:CET
DTSTART:20271031T010000
END:STANDARD
END:VTIMEZONE
BEGIN:VEVENT
DTSTART;TZID=Europe/Amsterdam:20260617T203000
DTEND;TZID=Europe/Amsterdam:20260617T214500
DTSTAMP:20260422T141223
CREATED:20251221T165013Z
LAST-MODIFIED:20251221T165047Z
UID:10000875-1781728200-1781732700@www.de-kuip.nl
SUMMARY:Avior Volleybal
DESCRIPTION:Volleybalvereniging Avior is een ondernemende volleybalvereniging met een sportieve verenigingsstructuur voor jong en oud. Ze creëren samen een veilige sportomgeving\, waar iedereen op eigen niveau een sportieve prestatie kan neerzetten en waarin iedereen zich betrokken voelt en zijn eigen rol vervult. \nDiverse teams gebruiken onze sporthal meer informatie op de website van Avior \nWe raden altijd aan om de websites van de huurders te raadplegen voor de meest actuele informatie.\nHet is voor ons onmogelijk om dit dagelijks bij te houden een link naar de website is onderaan deze pagina te vinden.
URL:https://www.de-kuip.nl/agenda/avior-volleybal-3/2026-06-17/
LOCATION:Sporthal De Kuip\, Bloemdalsweg 1b\, Colmschate\, 7429AL
CATEGORIES:Agenda huurders
ATTACH;FMTTYPE=image/png:https://www.de-kuip.nl/wp-content/uploads/2025/12/Huurder-Avior-2026.png
END:VEVENT
BEGIN:VEVENT
DTSTART;TZID=Europe/Amsterdam:20260618T183000
DTEND;TZID=Europe/Amsterdam:20260618T200000
DTSTAMP:20260422T141223
CREATED:20251224T123620Z
LAST-MODIFIED:20251224T123620Z
UID:10000980-1781807400-1781812800@www.de-kuip.nl
SUMMARY:Avior Volleybal
DESCRIPTION:Volleybalvereniging Avior is een ondernemende volleybalvereniging met een sportieve verenigingsstructuur voor jong en oud. Ze creëren samen een veilige sportomgeving\, waar iedereen op eigen niveau een sportieve prestatie kan neerzetten en waarin iedereen zich betrokken voelt en zijn eigen rol vervult. \nDiverse teams gebruiken onze sporthal meer informatie op de website van Avior \nWe raden altijd aan om de websites van de huurders te raadplegen voor de meest actuele informatie.\nHet is voor ons onmogelijk om dit dagelijks bij te houden een link naar de website is onderaan deze pagina te vinden.
URL:https://www.de-kuip.nl/agenda/avior-volleybal-4/2026-06-18/
LOCATION:Sporthal De Kuip\, Bloemdalsweg 1b\, Colmschate\, 7429AL
CATEGORIES:Agenda huurders
ATTACH;FMTTYPE=image/png:https://www.de-kuip.nl/wp-content/uploads/2025/12/Huurder-Avior-2026.png
END:VEVENT
BEGIN:VEVENT
DTSTART;TZID=Europe/Amsterdam:20260619T203000
DTEND;TZID=Europe/Amsterdam:20260619T214500
DTSTAMP:20260422T141223
CREATED:20251224T125227Z
LAST-MODIFIED:20251224T125227Z
UID:10001084-1781901000-1781905500@www.de-kuip.nl
SUMMARY:Avior Volleybal
DESCRIPTION:Volleybalvereniging Avior is een ondernemende volleybalvereniging met een sportieve verenigingsstructuur voor jong en oud. Ze creëren samen een veilige sportomgeving\, waar iedereen op eigen niveau een sportieve prestatie kan neerzetten en waarin iedereen zich betrokken voelt en zijn eigen rol vervult. \nDiverse teams gebruiken onze sporthal meer informatie op de website van Avior. \n  \nWe raden altijd aan om de websites van de huurders te raadplegen voor de meest actuele informatie.\nHet is voor ons onmogelijk om dit dagelijks bij te houden een link naar de website is onderaan deze pagina te vinden.
URL:https://www.de-kuip.nl/agenda/avior-volleybal-5/2026-06-19/
LOCATION:Sporthal De Kuip\, Bloemdalsweg 1b\, Colmschate\, 7429AL
CATEGORIES:Agenda huurders
ATTACH;FMTTYPE=image/png:https://www.de-kuip.nl/wp-content/uploads/2025/12/Huurder-Avior-2026.png
END:VEVENT
BEGIN:VEVENT
DTSTART;TZID=Europe/Amsterdam:20260622T191500
DTEND;TZID=Europe/Amsterdam:20260622T220000
DTSTAMP:20260422T141223
CREATED:20251221T134611Z
LAST-MODIFIED:20251221T135435Z
UID:10000720-1782155700-1782165600@www.de-kuip.nl
SUMMARY:Avior Volleybal
DESCRIPTION:Volleybalvereniging Avior is een ondernemende volleybalvereniging met een sportieve verenigingsstructuur voor jong en oud. Ze creëren samen een veilige sportomgeving\, waar iedereen op eigen niveau een sportieve prestatie kan neerzetten en waarin iedereen zich betrokken voelt en zijn eigen rol vervult. \nDiverse teams gebruiken onze sporthal meer informatie op de website van Avior \nWe raden altijd aan om de websites van de huurders te raadplegen voor de meest actuele informatie.\nHet is voor ons onmogelijk om dit dagelijks bij te houden een link naar de website is onderaan deze pagina te vinden.
URL:https://www.de-kuip.nl/agenda/avior-volleybal/2026-06-22/
LOCATION:Sporthal De Kuip\, Bloemdalsweg 1b\, Colmschate\, 7429AL
CATEGORIES:Agenda huurders
ATTACH;FMTTYPE=image/png:https://www.de-kuip.nl/wp-content/uploads/2025/12/Huurder-Avior-2026.png
END:VEVENT
BEGIN:VEVENT
DTSTART;TZID=Europe/Amsterdam:20260623T173000
DTEND;TZID=Europe/Amsterdam:20260623T203000
DTSTAMP:20260422T141223
CREATED:20251221T142811Z
LAST-MODIFIED:20251221T142811Z
UID:10000772-1782235800-1782246600@www.de-kuip.nl
SUMMARY:Avior Volleybal
DESCRIPTION:Volleybalvereniging Avior is een ondernemende volleybalvereniging met een sportieve verenigingsstructuur voor jong en oud. Ze creëren samen een veilige sportomgeving\, waar iedereen op eigen niveau een sportieve prestatie kan neerzetten en waarin iedereen zich betrokken voelt en zijn eigen rol vervult. \nDiverse teams gebruiken onze sporthal meer informatie op de website van Avior \nWe raden altijd aan om de websites van de huurders te raadplegen voor de meest actuele informatie.\nHet is voor ons onmogelijk om dit dagelijks bij te houden een link naar de website is onderaan deze pagina te vinden.
URL:https://www.de-kuip.nl/agenda/avior-volleybal-2/2026-06-23/
LOCATION:Sporthal De Kuip\, Bloemdalsweg 1b\, Colmschate\, 7429AL
CATEGORIES:Agenda huurders
ATTACH;FMTTYPE=image/png:https://www.de-kuip.nl/wp-content/uploads/2025/12/Huurder-Avior-2026.png
END:VEVENT
BEGIN:VEVENT
DTSTART;TZID=Europe/Amsterdam:20260624T203000
DTEND;TZID=Europe/Amsterdam:20260624T214500
DTSTAMP:20260422T141223
CREATED:20251221T165013Z
LAST-MODIFIED:20251221T165047Z
UID:10000876-1782333000-1782337500@www.de-kuip.nl
SUMMARY:Avior Volleybal
DESCRIPTION:Volleybalvereniging Avior is een ondernemende volleybalvereniging met een sportieve verenigingsstructuur voor jong en oud. Ze creëren samen een veilige sportomgeving\, waar iedereen op eigen niveau een sportieve prestatie kan neerzetten en waarin iedereen zich betrokken voelt en zijn eigen rol vervult. \nDiverse teams gebruiken onze sporthal meer informatie op de website van Avior \nWe raden altijd aan om de websites van de huurders te raadplegen voor de meest actuele informatie.\nHet is voor ons onmogelijk om dit dagelijks bij te houden een link naar de website is onderaan deze pagina te vinden.
URL:https://www.de-kuip.nl/agenda/avior-volleybal-3/2026-06-24/
LOCATION:Sporthal De Kuip\, Bloemdalsweg 1b\, Colmschate\, 7429AL
CATEGORIES:Agenda huurders
ATTACH;FMTTYPE=image/png:https://www.de-kuip.nl/wp-content/uploads/2025/12/Huurder-Avior-2026.png
END:VEVENT
BEGIN:VEVENT
DTSTART;TZID=Europe/Amsterdam:20260625T183000
DTEND;TZID=Europe/Amsterdam:20260625T200000
DTSTAMP:20260422T141223
CREATED:20251224T123620Z
LAST-MODIFIED:20251224T123620Z
UID:10000981-1782412200-1782417600@www.de-kuip.nl
SUMMARY:Avior Volleybal
DESCRIPTION:Volleybalvereniging Avior is een ondernemende volleybalvereniging met een sportieve verenigingsstructuur voor jong en oud. Ze creëren samen een veilige sportomgeving\, waar iedereen op eigen niveau een sportieve prestatie kan neerzetten en waarin iedereen zich betrokken voelt en zijn eigen rol vervult. \nDiverse teams gebruiken onze sporthal meer informatie op de website van Avior \nWe raden altijd aan om de websites van de huurders te raadplegen voor de meest actuele informatie.\nHet is voor ons onmogelijk om dit dagelijks bij te houden een link naar de website is onderaan deze pagina te vinden.
URL:https://www.de-kuip.nl/agenda/avior-volleybal-4/2026-06-25/
LOCATION:Sporthal De Kuip\, Bloemdalsweg 1b\, Colmschate\, 7429AL
CATEGORIES:Agenda huurders
ATTACH;FMTTYPE=image/png:https://www.de-kuip.nl/wp-content/uploads/2025/12/Huurder-Avior-2026.png
END:VEVENT
BEGIN:VEVENT
DTSTART;TZID=Europe/Amsterdam:20260626T203000
DTEND;TZID=Europe/Amsterdam:20260626T214500
DTSTAMP:20260422T141223
CREATED:20251224T125227Z
LAST-MODIFIED:20251224T125227Z
UID:10001085-1782505800-1782510300@www.de-kuip.nl
SUMMARY:Avior Volleybal
DESCRIPTION:Volleybalvereniging Avior is een ondernemende volleybalvereniging met een sportieve verenigingsstructuur voor jong en oud. Ze creëren samen een veilige sportomgeving\, waar iedereen op eigen niveau een sportieve prestatie kan neerzetten en waarin iedereen zich betrokken voelt en zijn eigen rol vervult. \nDiverse teams gebruiken onze sporthal meer informatie op de website van Avior. \n  \nWe raden altijd aan om de websites van de huurders te raadplegen voor de meest actuele informatie.\nHet is voor ons onmogelijk om dit dagelijks bij te houden een link naar de website is onderaan deze pagina te vinden.
URL:https://www.de-kuip.nl/agenda/avior-volleybal-5/2026-06-26/
LOCATION:Sporthal De Kuip\, Bloemdalsweg 1b\, Colmschate\, 7429AL
CATEGORIES:Agenda huurders
ATTACH;FMTTYPE=image/png:https://www.de-kuip.nl/wp-content/uploads/2025/12/Huurder-Avior-2026.png
END:VEVENT
BEGIN:VEVENT
DTSTART;TZID=Europe/Amsterdam:20260629T191500
DTEND;TZID=Europe/Amsterdam:20260629T220000
DTSTAMP:20260422T141223
CREATED:20251221T134611Z
LAST-MODIFIED:20251221T135435Z
UID:10000721-1782760500-1782770400@www.de-kuip.nl
SUMMARY:Avior Volleybal
DESCRIPTION:Volleybalvereniging Avior is een ondernemende volleybalvereniging met een sportieve verenigingsstructuur voor jong en oud. Ze creëren samen een veilige sportomgeving\, waar iedereen op eigen niveau een sportieve prestatie kan neerzetten en waarin iedereen zich betrokken voelt en zijn eigen rol vervult. \nDiverse teams gebruiken onze sporthal meer informatie op de website van Avior \nWe raden altijd aan om de websites van de huurders te raadplegen voor de meest actuele informatie.\nHet is voor ons onmogelijk om dit dagelijks bij te houden een link naar de website is onderaan deze pagina te vinden.
URL:https://www.de-kuip.nl/agenda/avior-volleybal/2026-06-29/
LOCATION:Sporthal De Kuip\, Bloemdalsweg 1b\, Colmschate\, 7429AL
CATEGORIES:Agenda huurders
ATTACH;FMTTYPE=image/png:https://www.de-kuip.nl/wp-content/uploads/2025/12/Huurder-Avior-2026.png
END:VEVENT
BEGIN:VEVENT
DTSTART;TZID=Europe/Amsterdam:20260630T173000
DTEND;TZID=Europe/Amsterdam:20260630T203000
DTSTAMP:20260422T141223
CREATED:20251221T142811Z
LAST-MODIFIED:20251221T142811Z
UID:10000773-1782840600-1782851400@www.de-kuip.nl
SUMMARY:Avior Volleybal
DESCRIPTION:Volleybalvereniging Avior is een ondernemende volleybalvereniging met een sportieve verenigingsstructuur voor jong en oud. Ze creëren samen een veilige sportomgeving\, waar iedereen op eigen niveau een sportieve prestatie kan neerzetten en waarin iedereen zich betrokken voelt en zijn eigen rol vervult. \nDiverse teams gebruiken onze sporthal meer informatie op de website van Avior \nWe raden altijd aan om de websites van de huurders te raadplegen voor de meest actuele informatie.\nHet is voor ons onmogelijk om dit dagelijks bij te houden een link naar de website is onderaan deze pagina te vinden.
URL:https://www.de-kuip.nl/agenda/avior-volleybal-2/2026-06-30/
LOCATION:Sporthal De Kuip\, Bloemdalsweg 1b\, Colmschate\, 7429AL
CATEGORIES:Agenda huurders
ATTACH;FMTTYPE=image/png:https://www.de-kuip.nl/wp-content/uploads/2025/12/Huurder-Avior-2026.png
END:VEVENT
BEGIN:VEVENT
DTSTART;TZID=Europe/Amsterdam:20260701T203000
DTEND;TZID=Europe/Amsterdam:20260701T214500
DTSTAMP:20260422T141223
CREATED:20251221T165013Z
LAST-MODIFIED:20251221T165047Z
UID:10000877-1782937800-1782942300@www.de-kuip.nl
SUMMARY:Avior Volleybal
DESCRIPTION:Volleybalvereniging Avior is een ondernemende volleybalvereniging met een sportieve verenigingsstructuur voor jong en oud. Ze creëren samen een veilige sportomgeving\, waar iedereen op eigen niveau een sportieve prestatie kan neerzetten en waarin iedereen zich betrokken voelt en zijn eigen rol vervult. \nDiverse teams gebruiken onze sporthal meer informatie op de website van Avior \nWe raden altijd aan om de websites van de huurders te raadplegen voor de meest actuele informatie.\nHet is voor ons onmogelijk om dit dagelijks bij te houden een link naar de website is onderaan deze pagina te vinden.
URL:https://www.de-kuip.nl/agenda/avior-volleybal-3/2026-07-01/
LOCATION:Sporthal De Kuip\, Bloemdalsweg 1b\, Colmschate\, 7429AL
CATEGORIES:Agenda huurders
ATTACH;FMTTYPE=image/png:https://www.de-kuip.nl/wp-content/uploads/2025/12/Huurder-Avior-2026.png
END:VEVENT
BEGIN:VEVENT
DTSTART;TZID=Europe/Amsterdam:20260702T183000
DTEND;TZID=Europe/Amsterdam:20260702T200000
DTSTAMP:20260422T141223
CREATED:20251224T123620Z
LAST-MODIFIED:20251224T123620Z
UID:10000982-1783017000-1783022400@www.de-kuip.nl
SUMMARY:Avior Volleybal
DESCRIPTION:Volleybalvereniging Avior is een ondernemende volleybalvereniging met een sportieve verenigingsstructuur voor jong en oud. Ze creëren samen een veilige sportomgeving\, waar iedereen op eigen niveau een sportieve prestatie kan neerzetten en waarin iedereen zich betrokken voelt en zijn eigen rol vervult. \nDiverse teams gebruiken onze sporthal meer informatie op de website van Avior \nWe raden altijd aan om de websites van de huurders te raadplegen voor de meest actuele informatie.\nHet is voor ons onmogelijk om dit dagelijks bij te houden een link naar de website is onderaan deze pagina te vinden.
URL:https://www.de-kuip.nl/agenda/avior-volleybal-4/2026-07-02/
LOCATION:Sporthal De Kuip\, Bloemdalsweg 1b\, Colmschate\, 7429AL
CATEGORIES:Agenda huurders
ATTACH;FMTTYPE=image/png:https://www.de-kuip.nl/wp-content/uploads/2025/12/Huurder-Avior-2026.png
END:VEVENT
END:VCALENDAR